Workbook
Name ________________________n4: {"EXCELHLP.HLP!1802";5;10;5;10;13;13;13;8;5;5;10;14;13;13;13;13;5;10;14;13;5;10;1;2;24}
Name ________________________n4: {"EXCELHLP.HLP!1802";5;10;5;10;13;13;13;8;5;5;10;14;13;13;13;13;5;10;14;13;5;10;1;2;24}
Name _______________________n4: {"EXCELHLP.HLP!1802";5;10;5;10;13;13;13;8;5;5;10;14;13;13;13;13;5;10;14;13;5;10;1;2;24}
Name _______________________n4: {"EXCELHLP.HLP!1802";5;10;5;10;13;13;13;8;5;5;10;14;13;13;13;13;5;10;14;13;5;10;1;2;24}
Name ______________________n4: {"EXCELHLP.HLP!1802";5;10;5;10;13;13;13;8;5;5;10;14;13;13;13;13;5;10;14;13;5;10;1;2;24}
Name ______________________n4: {"EXCELHLP.HLP!1802";5;10;5;10;13;13;13;8;5;5;10;14;13;13;13;13;5;10;14;13;5;10;1;2;24}
Name _____________________n4: {"EXCELHLP.HLP!1802";5;10;5;10;13;13;13;8;5;5;10;14;13;13;13;13;5;10;14;13;5;10;1;2;24}
Name _____________________n4: {"EXCELHLP.HLP!1802";5;10;5;10;13;13;13;8;5;5;10;14;13;13;13;13;5;10;14;13;5;10;1;2;24}
Name ____________________n4: {"EXCELHLP.HLP!1802";5;10;5;10;13;13;13;8;5;5;10;14;13;13;13;13;5;10;14;13;5;10;1;2;24}
Name ____________________n4: {"EXCELHLP.HLP!1802";5;10;5;10;13;13;13;8;5;5;10;14;13;13;13;13;5;10;14;13;5;10;1;2;24}
Name ___________________n4: {"EXCELHLP.HLP!1802";5;10;5;10;13;13;13;8;5;5;10;14;13;13;13;13;5;10;14;13;5;10;1;2;24}
Name ___________________n4: {"EXCELHLP.HLP!1802";5;10;5;10;13;13;13;8;5;5;10;14;13;13;13;13;5;10;14;13;5;10;1;2;24}
Name __________________n4: {"EXCELHLP.HLP!1802";5;10;5;10;13;13;13;8;5;5;10;14;13;13;13;13;5;10;14;13;5;10;1;2;24}
Name __________________n4: {"EXCELHLP.HLP!1802";5;10;5;10;13;13;13;8;5;5;10;14;13;13;13;13;5;10;14;13;5;10;1;2;24}
Name _________________n4: {"EXCELHLP.HLP!1802";5;10;5;10;13;13;13;8;5;5;10;14;13;13;13;13;5;10;14;13;5;10;1;2;24}
Name _________________n4: {"EXCELHLP.HLP!1802";5;10;5;10;13;13;13;8;5;5;10;14;13;13;13;13;5;10;14;13;5;10;1;2;24}
Name ________________n4: {"EXCELHLP.HLP!1802";5;10;5;10;13;13;13;8;5;5;10;14;13;13;13;13;5;10;14;13;5;10;1;2;24}
Name ________________n4: {"EXCELHLP.HLP!1802";5;10;5;10;13;13;13;8;5;5;10;14;13;13;13;13;5;10;14;13;5;10;1;2;24}
Name _______________n4: {"EXCELHLP.HLP!1802";5;10;5;10;13;13;13;8;5;5;10;14;13;13;13;13;5;10;14;13;5;10;1;2;24}
Name _______________n4: {"EXCELHLP.HLP!1802";5;10;5;10;13;13;13;8;5;5;10;14;13;13;13;13;5;10;14;13;5;10;1;2;24}
Name ______________n4: {"EXCELHLP.HLP!1802";5;10;5;10;13;13;13;8;5;5;10;14;13;13;13;13;5;10;14;13;5;10;1;2;24}
Name ______________n4: {"EXCELHLP.HLP!1802";5;10;5;10;13;13;13;8;5;5;10;14;13;13;13;13;5;10;14;13;5;10;1;2;24}
Name _____________n4: {"EXCELHLP.HLP!1802";5;10;5;10;13;13;13;8;5;5;10;14;13;13;13;13;5;10;14;13;5;10;1;2;24}
Name _____________n4: {"EXCELHLP.HLP!1802";5;10;5;10;13;13;13;8;5;5;10;14;13;13;13;13;5;10;14;13;5;10;1;2;24}
Name ____________n4: {"EXCELHLP.HLP!1802";5;10;5;10;13;13;13;8;5;5;10;14;13;13;13;13;5;10;14;13;5;10;1;2;24}
Name ____________n4: {"EXCELHLP.HLP!1802";5;10;5;10;13;13;13;8;5;5;10;14;13;13;13;13;5;10;14;13;5;10;1;2;24}
Name ___________n4: {"EXCELHLP.HLP!1802";5;10;5;10;13;13;13;8;5;5;10;14;13;13;13;13;5;10;14;13;5;10;1;2;24}
Name ___________n4: {"EXCELHLP.HLP!1802";5;10;5;10;13;13;13;8;5;5;10;14;13;13;13;13;5;10;14;13;5;10;1;2;24}
Name __________n4: {"EXCELHLP.HLP!1802";5;10;5;10;13;13;13;8;5;5;10;14;13;13;13;13;5;10;14;13;5;10;1;2;24}
Name __________n4: {"EXCELHLP.HLP!1802";5;10;5;10;13;13;13;8;5;5;10;14;13;13;13;13;5;10;14;13;5;10;1;2;24}
Name _________n4: {"EXCELHLP.HLP!1802";5;10;5;10;13;13;13;8;5;5;10;14;13;13;13;13;5;10;14;13;5;10;1;2;24}
Name _________n4: {"EXCELHLP.HLP!1802";5;10;5;10;13;13;13;8;5;5;10;14;13;13;13;13;5;10;14;13;5;10;1;2;24}
Name ________n4: {"EXCELHLP.HLP!1802";5;10;5;10;13;13;13;8;5;5;10;14;13;13;13;13;5;10;14;13;5;10;1;2;24}
Name ________n4: {"EXCELHLP.HLP!1802";5;10;5;10;13;13;13;8;5;5;10;14;13;13;13;13;5;10;14;13;5;10;1;2;24}
Name _______n4: {"EXCELHLP.HLP!1802";5;10;5;10;13;13;13;8;5;5;10;14;13;13;13;13;5;10;14;13;5;10;1;2;24}
Name _______n4: {"EXCELHLP.HLP!1802";5;10;5;10;13;13;13;8;5;5;10;14;13;13;13;13;5;10;14;13;5;10;1;2;24}
Name _______VAR5: "A"
Name ______n4: {"EXCELHLP.HLP!1802";5;10;5;10;13;13;13;8;5;5;10;14;13;13;13;13;5;10;14;13;5;10;1;2;24}
Name ______n4: {"EXCELHLP.HLP!1802";5;10;5;10;13;13;13;8;5;5;10;14;13;13;13;13;5;10;14;13;5;10;1;2;24}
Name ______VAR5: "A"
Name _____n4: {"EXCELHLP.HLP!1802";5;10;5;10;13;13;13;8;5;5;10;14;13;13;13;13;5;10;14;13;5;10;1;2;24}
Name _____n4: {"EXCELHLP.HLP!1802";5;10;5;10;13;13;13;8;5;5;10;14;13;13;13;13;5;10;14;13;5;10;1;2;24}
Name _____VAR5: "A"
Name ____VAR5: "A"
Name ___VAR5: "A"
Name __VAR5: "A"
Name _Regression_Int: 1
Name _Report: "Print All"
Name _S_Base: {0.1;0;0.382758620689655;0;0;0;0.258620689655172;0;0.258620689655172}
Name _S_Base: {0.1;0;0.382758620689655;0;0;0;0.258620689655172;0;0.258620689655172}
Name _S_new_case: {0.1;0;0.45;0;0;0;0;0;0.45}
Name _S_new_case: {0.1;0;0.45;0;0;0;0;0;0.45}
Name _VAR5: "A"
Name abit: 0.000000001
Name above: OFFSET(!A1,-1,0)
Name AccessDatabase: "C:\FiberNet\Sales\Sales Operations\Forecast\090902 IMPAIRMENT ANALYSIS\2003_Revenue Forecast Summary_AUG 2002 DATA.mdb"
Name adsdasda: {"EXCELHLP.HLP!1802";5;10;5;10;13;13;13;8;5;5;10;14;13;13;13;13;5;10;14;13;5;10;1;2;24}
Name adsdasda: {"EXCELHLP.HLP!1802";5;10;5;10;13;13;13;8;5;5;10;14;13;13;13;13;5;10;14;13;5;10;1;2;24}
Name adsfafd: {"EXCELHLP.HLP!1802";5;10;5;10;13;13;13;8;5;5;10;14;13;13;13;13;5;10;14;13;5;10;1;2;24}
Name adsfafd: {"EXCELHLP.HLP!1802";5;10;5;10;13;13;13;8;5;5;10;14;13;13;13;13;5;10;14;13;5;10;1;2;24}

Sheet Attachment H
K1: page 1 of 5
B2: Attachment H
B3: Formula Rate - Non-Levelized | C3: =+'Attachment H'!D5 -> Gridliance High Plains LLC | D3: Rate Formula Template | K3: For the 12 months ended 12/31/2027
D4: Utilizing FERC Form 1 Data
D5: Gridliance High Plains LLC
B8: (1) | C8: (2) | D8: (3) | G8: (4) | I8: (5)
A9: Line | I9: Allocated
A10: No. | I10: Amount
A11: 1 | B11: GROSS REVENUE REQUIREMENT | C11: (page 3, line 47) | I11: =+I172 -> 2920386.4
B13: REVENUE CREDITS | C13: (Note O) | D13: Total | F13: Allocator
A14: =+A11+1 -> 2 | B14: Account No. 454 | C14: ="(page 4, line "&A222&")" -> (page 4, line 29) | D14: =I222 -> 0 | F14: TP | G14: =I191 -> 1 | I14: =+G14*D14 -> 0
A15: =+A14+1 -> 3 | B15: Account No. 456.1 | C15: ="(page 4, line "&A227&")" -> (page 4, line 33) | D15: =I227 -> 71271.47 | F15: TP | G15: =+G14 -> 1 | I15: =+G15*D15 -> 71271.47
A16: =+A15+1 -> 4 | B16: Account No. 457.1 Scheduling | C16: Attachment 5, line 36, col e | D16: =+'5-P3 Support'!G68 -> 0 | F16: TP | G16: =+G15 -> 1 | I16: =+D16*G16 -> 0
A17: =+A16+1 -> 5 | B17: Revenues from Grandfathered Interzonal Transactions | C17: (Note N) | D17: 0 | F17: TP | G17: =+G15 -> 1 | I17: =+G17*D17 -> 0
A18: =+A17+1 -> 6 | B18: Revenues from service provided by the ISO at a discount | D18: 0 | F18: TP | G18: =+G17 -> 1 | I18: =+G18*D18 -> 0
A19: =+A18+1 -> 7 | B19: TOTAL REVENUE CREDITS | C19: (Sum of Lines 2 through 6) | D19: =SUM(D14:D18) -> 71271.47 | I19: =SUM(I14:I18) -> 71271.47
A21: =+A19+1 -> 8 | B21: NET REVENUE REQUIREMENT | C21: (line 1 minus line 7) | I21: =I11-I19 -> 2849114.9
A23: =+A21+1 -> 9 | B23: True-up Adjustment with Interest | C23: Attachment 3, Col. J | D23: =+'3-Project True-up'!K39 -> -498463.99 | F23: DA | G23: 1 | I23: =+G23*D23 -> -498463.99
A25: =+A23+1 -> 10 | B25: NET REVENUE REQUIREMENT | C25: (line 8 plus line 9) | I25: =+I21+I23 -> 2350650.9
K52: page 2 of 5
B54: Formula Rate - Non-Levelized | D54: Rate Formula Template | K54: =K3 -> For the 12 months ended 12/31/2027
D55: Utilizing FERC Form 1 Data
D56: =+D5 -> Gridliance High Plains LLC
B58: (1) | C58: (2) | D58: (3) | G58: (4) | I58: (5)
I59: Transmission
A60: Line | C60: Source | D60: Company Total | F60: Allocator | I60: (Col 3 times Col 4)
A61: No. | B61: RATE BASE:
B62: GROSS PLANT IN SERVICE (Notes U and R)
A63: 1 | B63: Production | C63: 205.46.g for end of year, records for other months | D63: 0 | F63: NA | G63: 0 | I63: =+G63*D63 -> 0
A64: =+A63+1 -> 2 | B64: Transmission | C64: Attachment 4, Line 14, Col. (b) | D64: ='4- Rate Base'!C24 -> 18189761 | F64: TP | G64: =I191 -> 1 | I64: =+G64*D64 -> 18189761
A65: =+A64+1 -> 3 | B65: Distribution | C65: 207.75.g for end of year, records for other months | D65: 0 | F65: NA | G65: 0 | I65: =+G65*D65 -> 0
A66: =+A65+1 -> 4 | B66: General & Intangible | C66: Attachment 4, Line 14, Col. (c) | D66: ='4- Rate Base'!D24 -> 3341.7593 | F66: W/S | G66: =I199 -> 1 | I66: =+G66*D66 -> 3341.7593
A67: =+A66+1 -> 5 | B67: Common | C67: 356.1 for end of year, records for other months | D67: 0 | F67: CE | G67: =K203 -> 1 | I67: =+G67*D67 -> 0
A68: =+A67+1 -> 6 | B68: TOTAL GROSS PLANT | C68: (Sum of Lines 1 through 5) | D68: =SUM(D63:D67) -> 18193103 | F68: GP= | G68: =IF(I68>0,I68/D68,0) -> 1 | I68: =SUM(I63:I67) -> 18193103
A70: =+A68+1 -> 7 | B70: ACCUMULATED DEPRECIATION (Notes U and R)
A71: =+A70+1 -> 8 | B71: Production | C71: 219.20-24.c for end of year, records for other months | D71: 0 | F71: NA | G71: 0 | I71: =+G71*D71 -> 0
A72: =+A71+1 -> 9 | B72: Transmission | C72: Attachment 4, Line 14, Col. (h) | D72: ='4- Rate Base'!I24 -> 2688909.6 | F72: TP | G72: =+G64 -> 1 | I72: =+G72*D72 -> 2688909.6
A73: =+A72+1 -> 10 | B73: Distribution | C73: 219.26.c for end of year, records for other months | D73: 0 | F73: NA | G73: =+G65 -> 0 | I73: =+G73*D73 -> 0
A74: =+A73+1 -> 11 | B74: General & Intangible | C74: Attachment 4, Line 14, Col. (i) | D74: ='4- Rate Base'!J24 -> 1533.9308 | F74: W/S | G74: =+G66 -> 1 | I74: =+G74*D74 -> 1533.9308
A75: =+A74+1 -> 12 | B75: Common | C75: 356.1 for end of year, records for other months | D75: 0 | F75: CE | G75: =+G67 -> 1 | I75: =+G75*D75 -> 0
...

Sheet 1-Project Rev Req
G5: Attachment 1 | S5: Page 1 of 2
G6: Project Revenue Requirement Worksheet
G7: =+'Attachment H'!D5 -> Gridliance High Plains LLC
C10: To be completed in conjunction with Attachment H.
C13: (1) | E13: (2) | I13: (3) | L13: (4)
E14: Attachment H
A15: Line | E15: Page, Line, Col. | I15: Transmission | L15: Allocator
A16: No.
A18: 1 | C18: Gross Transmission Plant - Total | E18: Attach H, p 2, line 2 col 5 plus line 27 col 5 (Note A) | I18: =+'Attachment H'!I64+'Attachment H'!I93 -> 18189761
A19: 2 | C19: Net Transmission Plant - Total | E19: Attach H, p 2, line 16 col 5 plus line 27 & 29 col 5 (Note B) | I19: =+'Attachment H'!I80+'Attachment H'!I93+'Attachment H'!I95 -> 15500851
C21: O&M EXPENSE
A22: 3 | C22: Total O&M Allocated to Transmission | E22: Attach H, p 3, line 14 col 5 | I22: =+'Attachment H'!I134 -> 771186.32
A23: 4 | C23: Annual Allocation Factor for O&M | E23: (line 3 divided by line 1 col 3) | I23: =IF(I18=0,0,I22/I18) -> 0.042396726 | L23: =I23 -> 0.042396726
C25: GENERAL, INTANGIBLE AND COMMON (G&C) DEPRECIATION EXPENSE
A26: 5 | C26: Total G, I & C Depreciation Expense | E26: Attach H, p 3, lines 17 & 18, col 5 (Note H) | I26: =+'Attachment H'!I138+'Attachment H'!I139 -> 160.60719
A27: 6 | C27: Annual Allocation Factor for G, I & C Depreciation Expense | E27: (line 5 divided by line 1 col 3) | I27: =IF(I26=0,0,I26/I18) -> 8.8295381e-06 | L27: =I27 -> 8.8295381e-06
C29: TAXES OTHER THAN INCOME TAXES
A30: 7 | C30: Total Other Taxes | E30: Attach H, p 3, line 30 col 5 | I30: =+'Attachment H'!I152 -> 274801.85
A31: 8 | C31: Annual Allocation Factor for Other Taxes | E31: (line 7 divided by line 1 col 3) | I31: =IF(I30=0,0,I30/I18) -> 0.015107502 | L31: =I31 -> 0.015107502
A33: 9 | C33: Less Revenue Credits | E33: Attach H, p 1, line 7 col 5 | I33: =-'Attachment H'!I19 -> -71271.47
A34: 10 | C34: Annual Allocation Factor Revenue Credits | E34: (line 9 divided by line 1 col 3) | I34: =IF(I33=0,0,I33/I18) -> -0.0039182192 | L34: =+I34 -> -0.0039182192
A36: 11 | C36: Annual Allocation Factor for Expense | E36: Sum of line 4, 6, 8, and 10 | L36: =L23+L27+L31+L34 -> 0.053594839
C38: INCOME TAXES
A39: 12 | C39: Total Income Taxes | E39: Attach H, p 3, line 44 col 5 | I39: =+'Attachment H'!I167 -> 276731.71
A40: 13 | C40: Annual Allocation Factor for Income Taxes | E40: (line 12 divided by line 2 col 3) | I40: =IF(I39=0,0,I39/I19) -> 0.017852678 | L40: =I40 -> 0.017852678
C42: RETURN
A43: 14 | C43: Return on Rate Base | E43: Attach H, p 3, line 46 col 5 | I43: =+'Attachment H'!I170 -> 1200463.7
A44: 15 | C44: Annual Allocation Factor for Return on Rate Base | E44: (line 14 divided by line 2 col 3) | I44: =IF(I43=0,0,I43/I19) -> 0.077445014 | L44: =I44 -> 0.077445014
A46: 16 | C46: Annual Allocation Factor for Return | E46: Sum of line 13 and 15 | I46: =+I44+I40 -> 0.095297693 | L46: =L40+L44 -> 0.095297693
G55: =+G5 -> Attachment 1 | S55: Page 2 of 2
G56: =+G6 -> Project Revenue Requirement Worksheet
G57: =+G7 -> Gridliance High Plains LLC
C62: -1 | D62: -2 | E62: -3 | F62: -4 | G62: -5 | H62: -6 | I62: -7 | J62: -8 | K62: -9 | L62: -10 | M62: -11 | N62: -12 | O62: (12a) | P62: -13 | Q62: (14) | R62: (15) | S62: (16)
A63: Line No. | C63: Project Name (Notes M & N) | D63: ITEP Project Number | E63: Project Gross Plant | F63: Annual Allocation Factor for Expense | G63: Annual Expense Charge | H63: Project Net Plant | I63: Annual Allocation Factor for Return | J63: Annual Return Charge | K63: Project Depreciation/Amortization Expense | L63: Annual Revenue Requirement | M63: Incentive Return in basis Points | N63: Incentive Return | O63: Ceiling Rate | P63: Discount | Q63: Total Annual Revenue Requirement | R63: True-Up Adjustment | S63: Net Rev Req
E64: (Note C) | F64: (Page 1 line 11) | G64: (Col. 3 * Col. 4) | H64: (Notes D & I) | I64: (Page 1 line 16) | J64: (Col. 6 * Col. 7) | K64: (Notes E & I) | L64: (Sum Col. 5, 8 & 9) | M64: (Note K) | N64: (Attachment 2, Line 28 /100 * Col. 11) | O64: (Sum Col. 10 & 12) | P64: (Note J) | Q64: (Sum Col. 10 & 12 Less Col. 13) | R64: (Note F) | S64: Sum Col. 14 & 15 (Note G)
C65: Zone 10
A66: 15a | C66: Southeast Missouri Assets (excludes Nixa NTC Project) | F66: =$L$36 -> 0.053594839 | G66: =E66*F66 -> 0 | I66: =$L$46 -> 0.095297693 | J66: =H66*I66 -> 0 | L66: =G66+J66+K66 -> 0 | M66: 0 | N66: =+'2-Incentive ROE'!K$40*'1-Project Rev Req'!M66/100 -> 0 | O66: =+L66+N66 -> 0 | P66: 0 | Q66: =+L66+N66-P66 -> 0 | R66: ='3-Project True-up'!$K$20 -> 0 | S66: =+Q66+R66 -> 0
F67: =$L$36 -> 0.053594839 | G67: =E67*F67 -> 0 | I67: =$L$46 -> 0.095297693 | J67: =H67*I67 -> 0 | L67: =G67+J67+K67 -> 0 | N67: =+'2-Incentive ROE'!K$40*'1-Project Rev Req'!M67/100 -> 0 | O67: =+L67+N67 -> 0 | Q67: =+L67+N67-P67 -> 0 | S67: =+Q67+R67 -> 0
F68: =$L$36 -> 0.053594839 | G68: =E68*F68 -> 0 | I68: =$L$46 -> 0.095297693 | J68: =H68*I68 -> 0 | L68: =G68+J68+K68 -> 0 | N68: =+'2-Incentive ROE'!K$40*'1-Project Rev Req'!M68/100 -> 0 | O68: =+L68+N68 -> 0 | Q68: =+L68+N68-P68 -> 0 | S68: =+Q68+R68 -> 0
A69: 15b | F69: =$L$36 -> 0.053594839 | G69: =E69*F69 -> 0 | I69: =$L$46 -> 0.095297693 | J69: =H69*I69 -> 0 | L69: =G69+J69+K69 -> 0 | M69: 0 | N69: =+'2-Incentive ROE'!K$40*'1-Project Rev Req'!M69/100 -> 0 | O69: =+L69+N69 -> 0 | P69: 0 | Q69: =+L69+N69-P69 -> 0 | R69: ='3-Project True-up'!$K$22 -> 0 | S69: =+Q69+R69 -> 0
...

Sheet 2-Incentive ROE
F3: Attachment 2 | K3: Page 1 of 1
F4: Incentive ROE
F5: =+'Attachment H'!D5 -> Gridliance High Plains LLC
A7: 1 | B7: Rate Base | C7: Attachment H, Page 2 line 37, Col.5 | K7: =+'Attachment H'!I106 -> 13991418
A9: =+A7+1 -> 2 | B9: 100 Basis Point Incentive Return | J9: $
H10: Cost
E11: $ | F11: % | J11: Weighted
A12: =+A9+1 -> 3 | B12: Long Term Debt | C12: (Attachment H, Notes Q and R) | E12: ='Attachment H'!D210 -> 24340687 | F12: ='Attachment H'!E210 -> 0.4 | H12: ='Attachment H'!G210 -> 0.06 | J12: =F12*H12 -> 0.024
A13: =+A12+1 -> 4 | B13: Preferred Stock | C13: (Attachment H, Notes Q and R) | E13: ='Attachment H'!D211 -> 0 | F13: 0 | H13: 0 | J13: =F13*H13 -> 0
A14: =+A13+1 -> 5 | B14: Common Stock | C14: (Attachment H, Notes K, Q and R) | D14: Cost = Attachment H, Page 4 Line 22, Cost plus .01 | E14: ='Attachment H'!D212 -> 76476833 | F14: ='Attachment H'!E212 -> 0.6 | H14: 0.113 | J14: =F14*H14 -> 0.0678
A15: =+A14+1 -> 6 | B15: Total (sum lines 3-5) | E15: =SUM(E12:E14) -> 1.0081752e+08 | J15: =SUM(J12:J14) -> 0.0918
A16: =+A15+1 -> 7 | B16: 100 Basis Point Incentive Return multiplied by Rate Base (line 1 * line 6) | K16: =+J15*K7 -> 1284412.2
A18: =+A16+1 -> 8 | B18: INCOME TAXES
A19: =+A18+1 -> 9 | B19: T=1 - {[(1 - SIT) * (1 - FIT)] / (1 - SIT * FIT * p)} = | E19: =IF('Attachment H'!D259>0,1-(((1-'Attachment H'!D260)*(1-'Attachment H'!D259))/(1-'Attachment H'!D259*'Attachment H'!D260*'Attachment H'!D261)),0) -> 0.2416 | I19: =+E12/E15 -> 0.24143311
A20: =+A19+1 -> 10 | B20: CIT=(T/1-T) * (1-(WCLTD/R)) = | E20: =IF(J15>0,(E19/(1-E19))*(1-J12/J15),0) -> 0.23528033 | I20: =+E14/E15 -> 0.75856689
A21: =+A20+1 -> 11 | B21: WCLTD = Line 3
A22: =+A21+1 -> 12 | B22: and FIT, SIT & p are as given in Attachment H, Note G.
A23: =+A22+1 -> 13 | B23: =" 1 / (1 - T) = (from line "&A19&")" -> 1 / (1 - T) = (from line 9) | E23: =IF(E19>0,1/(1-E19),0) -> 1.3185654
A24: =+A23+1 -> 14 | B24: Amortized Investment Tax Credit (266.8f) (enter negative) | D24: Attachment H, Page 3, Line 37 | E24: =+'Attachment H'!D160 -> 0
A25: =+A24+1 -> 15 | B25: (Excess)/Deficient Deferred Income Taxes | D25: Attachment H, Page 3, Line 38 | E25: =+'Attachment H'!D161 -> -406.68736
A26: =+A25+1 -> 16 | B26: Tax Effect of Permanent Differences (Note B) | D26: Attachment H, Page 3, Line 39 | E26: =+'Attachment H'!D162 -> 1375.8345
A27: =+A26+1 -> 17 | B27: Income Tax Calculation | D27: Attachment H, Page 3, Line 40 | E27: =+'Attachment H'!D163 -> 275453.83 | G27: NA | J27: =E27 -> 275453.83
A28: =+A27+1 -> 18 | B28: ="ITC adjustment (line "&A23&" * line "&A24&")" -> ITC adjustment (line 13 * line 14) | E28: =+E$23*E24 -> 0 | G28: NP | H28: =+'Attachment H'!G84 -> 1 | J28: =+E28*H28 -> 0
A29: =+A28+1 -> 19 | B29: ="(Excess)/Deficient Deferred Income Tax Adjustment (line "&A23&" * line "&A25&")" -> (Excess)/Deficient Deferred Income Tax Adjustment (line 13 * line 15) | E29: =+E$23*E25 -> -536.24388 | G29: NP | H29: =H28 -> 1 | J29: =+E29*H29 -> -536.24388
A30: =+A29+1 -> 20 | B30: ="Permanent Differences Tax Adjustment (line "&A23&" * "&A26&")" -> Permanent Differences Tax Adjustment (line 13 * 16) | E30: =+E$23*E26 -> 1814.1278 | G30: NP | H30: =H29 -> 1 | J30: =+E30*H30 -> 1814.1278
A31: =+A30+1 -> 21 | B31: ="Total Income Taxes (sum lines "&A27&" - "&A30&")" -> Total Income Taxes (sum lines 17 - 20) | E31: =SUM(E27:E30) -> 276731.71 | J31: =SUM(J27:J30) -> 276731.71 | K31: =+J31 -> 276731.71
A33: =+A31+1 -> 22 | B33: Return and Income Taxes with 100 basis point increase in ROE | K33: =+K31+K16 -> 1561143.9
A35: =+A33+1 -> 23 | B35: Return (Attach. H, page 3 line 46 col 5) | K35: =+'Attachment H'!I170 -> 1200463.7
A36: =+A35+1 -> 24 | B36: Income Tax (Attach. H, page 3 line 44 col 5) | K36: =+'Attachment H'!I167 -> 276731.71
A37: =+A36+1 -> 25 | B37: Return and Income Taxes without 100 basis point increase in ROE | K37: =SUM(K35:K36) -> 1477195.4
A38: =+A37+1 -> 26 | B38: Incremental Return and Income Taxes for 100 basis point increase in ROE | K38: =+K33-K37 -> 83948.507
A39: =+A38+1 -> 27 | B39: Rate Base (line 1) | K39: =+K7 -> 13991418
A40: =+A39+1 -> 28 | B40: Incremental Return and Income Taxes for 100 basis point increase in ROE divided by Rate Base | K40: =IF(K39=0,0,K38/K39) -> 0.006
A43: Notes:
A44: A | B44: Line 5 includes a 100 basis point increase in ROE that is used only to determine the increase in return and income taxes associated with
B45: a 100 basis point increase in ROE. Any actual ROE incentive must be approved by the Commission.
B46: For example, if the Commission were to grant a 137 basis point ROE incentive, the increase in return and taxes for a 100 basis point
B47: increase in ROE would be multiplied by 1.37 on Attachment 1 column 12.
A48: B | B48: The Tax Effect of Permanent Differences captures the differences in the income taxes due under the Federal and State calculations and the income taxes calculated
B49: in Attachment H that are not the result of a timing difference

Sheet 3-Project True-up
J1: Page 1 of 1
E5: Attachment 3
E6: Project True-Up
E7: =+'2-Incentive ROE'!F5 -> Gridliance High Plains LLC
D10: Revenue Requirement Projected | G10: Actual Revenue
A11: 1 | B11: Rate Year being Trued-Up | D11: For Rate Year | F11: Revenue Received3 | G11: Requirement | H11: Annual True-Up Calculation
A12: 2 | B12: 2025 | F12: 3171538.2
B13: A | C13: B | D13: C | E13: D | F13: E | G13: F | H13: G | I13: H | J13: I | K13: J
E14: % of
D15: Projected | E15: Total | F15: Revenue | G15: Actual | H15: Net | J15: Interest
B16: Project # | D16: Net Revenue | E16: Revenue | F16: Received | G16: Net Revenue | H16: Under/(Over) | I16: Prior Period | J16: Income | K16: Total True-Up
B17: Or Other Identifier | C17: Project Name | D17: Requirement1 | E17: Requirement | F17: (E, Line 2 ) x (D) | G17: Requirement2 | H17: Collection (F)-(E) | I17: Adjustment 5 | J17: (Expense)4 | K17: (G) + (H) + (I)
A18: 3 | B18: Attachment H | E18: =IF(D$39=0,0,D18/D$39) -> 0 | F18: =IF(F$12=0,0,E18*F$12) -> 0 | H18: =+G18-F18 -> 0 | I18: =$E$59*E18 -> 0 | J18: =(H18+I18)*((J$41/12)*24) -> 0 | K18: =+H18+J18+I18 -> 0
E19: =IF(D$39=0,0,D19/D$39) -> 0 | F19: =IF(F$12=0,0,E19*F$12) -> 0 | H19: =+G19-F19 -> 0 | I19: =$E$59*E19 -> 0 | J19: =(H19+I19)*((J$41/12)*24) -> 0 | K19: =+H19+J19+I19 -> 0
A20: 3a | B20: Zone 10 | C20: Southeast Missouri Assets (excludes Nixa NTC Project) | D20: 0 | E20: =IF(D$39=0,0,D20/D$39) -> 0 | F20: =IF(F$12=0,0,E20*F$12) -> 0 | G20: 0 | H20: =+G20-F20 -> 0 | I20: =$E$59*E20 -> 0 | J20: =(H20+I20)*((J$41/12)*24) -> 0 | K20: =+H20+J20+I20 -> 0
E21: =IF(D$39=0,0,D21/D$39) -> 0 | F21: =IF(F$12=0,0,E21*F$12) -> 0 | H21: =+G21-F21 -> 0 | I21: =$E$59*E21 -> 0 | J21: =(H21+I21)*((J$41/12)*24) -> 0 | K21: =+H21+J21+I21 -> 0
A22: 3b | D22: 0 | E22: =IF(D$39=0,0,D22/D$39) -> 0 | F22: =IF(F$12=0,0,E22*F$12) -> 0 | G22: 0 | H22: =+G22-F22 -> 0 | I22: =$E$59*E22 -> 0 | J22: =(H22+I22)*((J$41/12)*24) -> 0 | K22: =+H22+J22+I22 -> 0
E23: =IF(D$39=0,0,D23/D$39) -> 0 | F23: =IF(F$12=0,0,E23*F$12) -> 0 | H23: =+G23-F23 -> 0 | I23: =$E$59*E23 -> 0 | J23: =(H23+I23)*((J$41/12)*24) -> 0 | K23: =+H23+J23+I23 -> 0
A24: 3c | B24: Zone 10 Schedule 11 | C24: Nixa NTC Project | D24: 0 | E24: =IF(D$39=0,0,D24/D$39) -> 0 | F24: =IF(F$12=0,0,E24*F$12) -> 0 | G24: 0 | H24: =+G24-F24 -> 0 | I24: =$E$59*E24 -> 0 | J24: =(H24+I24)*((J$41/12)*24) -> 0 | K24: =+H24+J24+I24 -> 0
E25: =IF(D$39=0,0,D25/D$39) -> 0 | F25: =IF(F$12=0,0,E25*F$12) -> 0 | H25: =+G25-F25 -> 0 | I25: =$E$59*E25 -> 0 | J25: =(H25+I25)*((J$41/12)*24) -> 0 | K25: =+H25+J25+I25 -> 0
A26: 3d | B26: Zone 14 | C26: Kansas Assets (excludes Winfield NTC Project) | D26: 2595450.8 | E26: =IF(D$39=0,0,D26/D$39) -> 0.83222174 | F26: =IF(F$12=0,0,E26*F$12) -> 2639423.1 | G26: 2272778.3 | H26: =+G26-F26 -> -366644.75 | I26: =$E$59*E26 -> 6618.4679 | J26: =(H26+I26)*((J$41/12)*24) -> -54806.287 | K26: =+H26+J26+I26 -> -414832.57
E27: =IF(D$39=0,0,D27/D$39) -> 0 | F27: =IF(F$12=0,0,E27*F$12) -> 0 | H27: =+G27-F27 -> 0 | I27: =$E$59*E27 -> 0 | J27: =(H27+I27)*((J$41/12)*24) -> 0 | K27: =+H27+J27+I27 -> 0
A28: 3e | B28: Zone 14 Schedule 11 | C28: Winfield NTC Project | D28: 523250.22 | E28: =IF(D$39=0,0,D28/D$39) -> 0.16777826 | F28: =IF(F$12=0,0,E28*F$12) -> 532115.15 | G28: 458198.53 | H28: =+G28-F28 -> -73916.618 | I28: =$E$59*E28 -> 1334.3018 | J28: =(H28+I28)*((J$41/12)*24) -> -11049.102 | K28: =+H28+J28+I28 -> -83631.419
E29: =IF(D$39=0,0,D29/D$39) -> 0 | F29: =IF(F$12=0,0,E29*F$12) -> 0 | H29: =+G29-F29 -> 0 | I29: =$E$59*E29 -> 0 | J29: =(H29+I29)*((J$41/12)*24) -> 0 | K29: =+H29+J29+I29 -> 0
E30: =IF(D$39=0,0,D30/D$39) -> 0 | F30: =IF(F$12=0,0,E30*F$12) -> 0 | H30: =+G30-F30 -> 0 | I30: =$E$59*E30 -> 0 | J30: =(H30+I30)*((J$41/12)*24) -> 0 | K30: =+H30+J30+I30 -> 0
E31: =IF(D$39=0,0,D31/D$39) -> 0 | F31: =IF(F$12=0,0,E31*F$12) -> 0 | H31: =+G31-F31 -> 0 | I31: =$E$59*E31 -> 0 | J31: =(H31+I31)*((J$41/12)*24) -> 0 | K31: =+H31+J31+I31 -> 0
E32: =IF(D$39=0,0,D32/D$39) -> 0 | F32: =IF(F$12=0,0,E32*F$12) -> 0 | H32: =+G32-F32 -> 0 | I32: =$E$59*E32 -> 0 | J32: =(H32+I32)*((J$41/12)*24) -> 0 | K32: =+H32+J32+I32 -> 0
E33: =IF(D$39=0,0,D33/D$39) -> 0 | F33: =IF(F$12=0,0,E33*F$12) -> 0 | H33: =+G33-F33 -> 0 | I33: =$E$59*E33 -> 0 | J33: =(H33+I33)*((J$41/12)*24) -> 0 | K33: =+H33+J33+I33 -> 0
E34: =IF(D$39=0,0,D34/D$39) -> 0 | F34: =IF(F$12=0,0,E34*F$12) -> 0 | H34: =+G34-F34 -> 0 | I34: =$E$59*E34 -> 0 | J34: =(H34+I34)*((J$41/12)*24) -> 0 | K34: =+H34+J34+I34 -> 0
E35: =IF(D$39=0,0,D35/D$39) -> 0 | F35: =IF(F$12=0,0,E35*F$12) -> 0 | H35: =+G35-F35 -> 0 | I35: =$E$59*E35 -> 0 | J35: =(H35+I35)*((J$41/12)*24) -> 0 | K35: =+H35+J35+I35 -> 0
E36: =IF(D$39=0,0,D36/D$39) -> 0 | F36: =IF(F$12=0,0,E36*F$12) -> 0 | H36: =+G36-F36 -> 0 | I36: =$E$59*E36 -> 0 | J36: =(H36+I36)*((J$41/12)*24) -> 0 | K36: =+H36+J36+I36 -> 0
E37: =IF(D$39=0,0,D37/D$39) -> 0 | F37: =IF(F$12=0,0,E37*F$12) -> 0 | H37: =+G37-F37 -> 0 | I37: =$E$59*E37 -> 0 | J37: =(H37+I37)*((J$41/12)*24) -> 0 | K37: =+H37+J37+I37 -> 0
I38: =$E$59*E38 -> 0
A39: 4 | B39: Total Annual Revenue Requirements (Note A) | D39: =SUM(D18:D38) -> 3118701 | E39: =SUM(E18:E38) -> 1 | F39: =SUM(F18:F38) -> 3171538.2 | G39: =SUM(G18:G38) -> 2730976.8 | H39: =SUM(H18:H38) -> -440561.37 | I39: =SUM(I18:I38) -> 7952.7697 | J39: =SUM(J18:J38) -> -65855.39 | K39: =SUM(K18:K38) -> -498463.99
G41: Monthly Interest Rate | J41: ='6-True-Up Interest'!H15*12 -> 0.076114286
D42: =+D20+D24 -> 0 | G42: Interest Income (Expense) | J42: =+J39 -> -65855.39
B43: Notes:
B44: 1) From Attachment 1, line 15, col. 14 for the projection for the Rate Year.
B45: 2) From Attachment 1, line 15, col. 14 for that project based on the actual costs for the Rate Year.
B46: 3) The "Revenue Received" on line 2, Col. (E), is the total amount of revenue distributed to company in the year as shown on pages 328-330 of the Form No 1. The Revenue Received is input on line 2, Col. E excludes any True-Up revenues.
...

Sheet 4- Rate Base
G1: Attachment 4 | J1: Page 1 of 2
G2: Rate Base Worksheet
G3: =+'Attachment H'!D5 -> Gridliance High Plains LLC
C6: Gross Plant In Service | E6: CWIP | F6: LHFFU | G6: Working Capital | I6: Accumulated Depreciation
A7: Line No | B7: Month | C7: Transmission | D7: General & Intangible | E7: CWIP in Rate Base | F7: Held for Future Use | G7: Materials & Supplies | H7: Prepayments | I7: Transmission | J7: General & Intangible
B8: (a) | C8: (b) | D8: (c) | E8: (d) | F8: (e) | G8: (f) | H8: (g) | I8: (h) | J8: (i)
B9: Attachment H, Page 2, Line No: | C9: 2 | D9: 4 | E9: 27 | F9: 31 | G9: 34 | H9: 35 | I9: 9 | J9: 11
C10: 207.58.g for end of year, records for other months | D10: 205.5.g & 207.99.g for end of year, records for other months | E10: (Note C) | F10: 214.x.d for end of year, records for other months | G10: 227.8.c & 227.16.c for end of year, records for other months | H10: 111.57.c for end of year, records for other months | I10: 219.25.c for end of year, records for other months | J10: 219.28.c & 200.21.c for end of year, records for other months
A11: 1 | B11: December Prior Year | C11: 18189761 | D11: 3341.7593 | E11: 0 | F11: 0 | G11: 336784.71 | H11: 24386.239 | I11: 2490388.5 | J11: 1360.6714
A12: 2 | B12: January | C12: 18189761 | D12: 3341.7593 | E12: 0 | F12: 0 | G12: 336784.71 | H12: 24386.239 | I12: 2523475.4 | J12: 1389.548
A13: 3 | B13: February | C13: 18189761 | D13: 3341.7593 | E13: 0 | F13: 0 | G13: 336784.71 | H13: 24386.239 | I13: 2556562.2 | J13: 1418.4245
A14: 4 | B14: March | C14: 18189761 | D14: 3341.7593 | E14: 0 | F14: 0 | G14: 336784.71 | H14: 24386.239 | I14: 2589649.1 | J14: 1447.3011
A15: 5 | B15: April | C15: 18189761 | D15: 3341.7593 | E15: 0 | F15: 0 | G15: 336784.71 | H15: 24386.239 | I15: 2622735.9 | J15: 1476.1777
A16: 6 | B16: May | C16: 18189761 | D16: 3341.7593 | E16: 0 | F16: 0 | G16: 336784.71 | H16: 24386.239 | I16: 2655822.8 | J16: 1505.0542
A17: 7 | B17: June | C17: 18189761 | D17: 3341.7593 | E17: 0 | F17: 0 | G17: 336784.71 | H17: 24386.239 | I17: 2688909.6 | J17: 1533.9308
A18: 8 | B18: July | C18: 18189761 | D18: 3341.7593 | E18: 0 | F18: 0 | G18: 336784.71 | H18: 24386.239 | I18: 2721996.5 | J18: 1562.8074
A19: 9 | B19: August | C19: 18189761 | D19: 3341.7593 | E19: 0 | F19: 0 | G19: 336784.71 | H19: 24386.239 | I19: 2755083.4 | J19: 1591.6839
A20: 10 | B20: September | C20: 18189761 | D20: 3341.7593 | E20: 0 | F20: 0 | G20: 336784.71 | H20: 24386.239 | I20: 2788170.2 | J20: 1620.5605
A21: 11 | B21: October | C21: 18189761 | D21: 3341.7593 | E21: 0 | F21: 0 | G21: 336784.71 | H21: 24386.239 | I21: 2821257.1 | J21: 1649.437
A22: 12 | B22: November | C22: 18189761 | D22: 3341.7593 | E22: 0 | F22: 0 | G22: 336784.71 | H22: 24386.239 | I22: 2854343.9 | J22: 1678.3136
A23: 13 | B23: December | C23: 18189761 | D23: 3341.7593 | E23: 0 | F23: 0 | G23: 336784.71 | H23: 24386.239 | I23: 2887430.8 | J23: 1707.1902
A24: 14 | B24: Average of the 13 Monthly Balances | C24: =SUM(C11:C23)/13 -> 18189761 | D24: =SUM(D11:D23)/13 -> 3341.7593 | E24: =SUM(E11:E23)/13 -> 0 | F24: =SUM(F11:F23)/13 -> 0 | G24: =SUM(G11:G23)/13 -> 336784.71 | H24: =SUM(H11:H23)/13 -> 24386.239 | I24: =SUM(I11:I23)/13 -> 2688909.6 | J24: =SUM(J11:J23)/13 -> 1533.9308
C26: Adjustments to Rate Base
A27: Line No | B27: Month | C27: Unamortized Regulatory Asset | D27: Unamortized Abandoned Plant | E27: Account No. 281 Accumulated Deferred Income Taxes (Note D) | F27: Account No. 282 Accumulated Deferred Income Taxes (Note D) | G27: Account No. 283 Accumulated Deferred Income Taxes (Note D) | H27: Account No. 190 Accumulated Deferred Income Taxes (Note D) | I27: Account No. 255 Accumulated Deferred Investment Credit
B28: (a) | C28: (b) | D28: (c) | E28: (d) | F28: (e) | G28: (f) | H28: (g) | I28: (h)
B29: Attachment H, Page 2, Line No: | C29: 28 | D29: 29 | E29: 22 | F29: 23 | G29: 24 | H29: 25 | I29: 26
C30: Notes A & E | D30: Notes B & F | E30: 272.8.b & 273.8.k | F30: Attachment 4a or 4e | G30: Attachment 4a or 4e | H30: Attachment 4a or 4e | I30: Consistent with 266.8.b & 267.8.h
A31: 15 | B31: December Prior Year | C31: 0 | D31: 0 | E31: 0 | I31: 0
A32: 16 | B32: January | C32: 0 | D32: 0 | I32: 0
A33: 17 | B33: February | C33: 0 | D33: 0 | I33: 0
A34: 18 | B34: March | C34: 0 | D34: 0 | I34: 0
A35: 19 | B35: April | C35: 0 | D35: 0 | I35: 0
A36: 20 | B36: May | C36: 0 | D36: 0 | I36: 0
A37: 21 | B37: June | C37: 0 | D37: 0 | I37: 0
A38: 22 | B38: July | C38: 0 | D38: 0 | I38: 0
A39: 23 | B39: August | C39: 0 | D39: 0 | I39: 0
A40: 24 | B40: September | C40: 0 | D40: 0 | I40: 0
A41: 25 | B41: October | C41: 0 | D41: 0 | I41: 0
A42: 26 | B42: November | C42: 0 | D42: 0 | I42: 0
A43: 27 | B43: December | C43: =+C42 -> 0 | D43: 0 | E43: 0 | I43: 0
...

Sheet 4a-ADIT Projection
A1: Attachment 4a - Accumulated Deferred Income Taxes (ADIT) Average Worksheet (Projection)
A2: =+'Attachment H'!D5 -> Gridliance High Plains LLC
A3: Projection for the 12 Months Ended 12/31/2027
B5: (a) | C5: (b) | D5: (c) | E5: (d) | F5: (e) | G5: (f) | H5: (g) | I5: (h)
A6: Ln | B6: Beginning Balance & Monthly Changes | C6: Month | D6: Year | E6: Balance | F6: Transmission Related | G6: Plant Related | H6: Labor Related | I6: Total (Sum Col. (e), (f) & (g))
A7: ADIT-282
A8: 1 | B8: Balance-BOY (Attach 4c, Line 30) | C8: December | D8: 2026 | E8: =SUM(F8:H8) -> -1718231.5 | F8: ='4c- ADIT BOY'!E54 -> -1718231.5 | G8: ='4c- ADIT BOY'!F54 -> 0 | H8: ='4c- ADIT BOY'!G54 -> 0
A9: =A8+1 -> 2 | B9: Balance-EOY (Attach 4d, Line 30 less Line 27) | C9: December | D9: 2027 | E9: =SUM(F9:H9) -> 0 | F9: ='4d- ADIT EOY'!E54-'4d- ADIT EOY'!E51 -> 0 | G9: ='4d- ADIT EOY'!F54-'4d- ADIT EOY'!F51 -> 0 | H9: ='4d- ADIT EOY'!G54-'4d- ADIT EOY'!G51 -> 0
A10: =A9+1 -> 3 | B10: Balance-EOY-Prorated (Attach 4b, Line 14) | C10: December | D10: 2027 | E10: =SUM(F10:H10) -> -1796206.4 | F10: ='4b-ADIT Projection Proration'!H22 -> -1796206.4 | G10: ='4b-ADIT Projection Proration'!J22 -> 0 | H10: ='4b-ADIT Projection Proration'!L22 -> 0
A11: =+A10+1 -> 4 | B11: Balance-EOY-Total (Lines 2+3) | C11: December | D11: 2027 | E11: =SUM(F11:H11) -> -1796206.4 | F11: =F9+F10 -> -1796206.4 | G11: =G9+G10 -> 0 | H11: =H9+H10 -> 0
A12: =+A11+1 -> 5 | B12: Total Plant Allocator | F12: 1 | J12: 1
A13: =+A12+1 -> 6 | B13: Net Plant Allocator | G13: ='Attachment H'!G$84 -> 1 | J13: Attachment H, Page 2, Line 20
A14: =+A13+1 -> 7 | B14: Wages & Salary Allocator | H14: ='Attachment H'!I$199 -> 1 | J14: Attachment H, Page 4, Line 11
A15: =+A14+1 -> 8 | B15: Projected ADIT Total | E15: =+E11 -> -1796206.4 | F15: =+F11*F12 -> -1796206.4 | G15: =+G11*G13 -> 0 | H15: =+H11*H14 -> 0 | I15: =+F15+G15+H15 -> -1796206.4 | J15: Enter as negative Attachment 4, Page 1, Line 28 for Projection
A17: ADIT-283
A18: =A15+1 -> 9 | B18: Balance-BOY (Attach 4c, Line 44) | C18: December | D18: =D8 -> 2026 | E18: =SUM(F18:H18) -> -159638.85 | F18: ='4c- ADIT BOY'!E78 -> -159638.85 | G18: ='4c- ADIT BOY'!F78 -> 0 | H18: ='4c- ADIT BOY'!G78 -> 0
A19: =A18+1 -> 10 | B19: Balance-EOY (Attach 4d, Line 44 less Line 41) | C19: December | D19: =D9 -> 2027 | E19: =SUM(F19:H19) -> 0 | F19: ='4d- ADIT EOY'!E78-'4d- ADIT EOY'!E75 -> 0 | G19: ='4d- ADIT EOY'!F78-'4d- ADIT EOY'!F75 -> 0 | H19: ='4d- ADIT EOY'!G78-'4d- ADIT EOY'!G75 -> 0
A20: =A19+1 -> 11 | B20: Balance-EOY-Prorated (Attach 4b, Line 28) | C20: December | D20: =D10 -> 2027 | E20: =SUM(F20:H20) -> -159638.85 | F20: ='4b-ADIT Projection Proration'!H38 -> -159638.85 | G20: ='4b-ADIT Projection Proration'!J38 -> 0 | H20: ='4b-ADIT Projection Proration'!L38 -> 0
A21: =A20+1 -> 12 | B21: Balance-EOY-Total (Lines 9+10) | C21: December | D21: =D11 -> 2027 | E21: =SUM(F21:H21) -> -159638.85 | F21: =F19+F20 -> -159638.85 | G21: =G19+G20 -> 0 | H21: =H19+H20 -> 0
A22: =A21+1 -> 13 | B22: Total Plant Allocator | F22: 1 | J22: 1
A23: =A22+1 -> 14 | B23: Net Plant Allocator | G23: ='Attachment H'!G$84 -> 1 | J23: Attachment H, Page 2, Line 20
A24: =A23+1 -> 15 | B24: Wages & Salary Allocator | H24: ='Attachment H'!I$199 -> 1 | J24: Attachment H, Page 4, Line 11
A25: =A24+1 -> 16 | B25: Projected ADIT Total | E25: =E21 -> -159638.85 | F25: =+F21*F22 -> -159638.85 | G25: =+G21*G23 -> 0 | H25: =+H21*H24 -> 0 | I25: =+F25+G25+H25 -> -159638.85 | J25: Enter as negative Attachment 4, Page 1, Line 28 for Projection
A27: ADIT-190
A28: =A25+1 -> 17 | B28: Balance-BOY (Attach 4c, Line 18) | C28: December | D28: =D18 -> 2026 | E28: =SUM(F28:H28) -> -12723.166 | F28: ='4c- ADIT BOY'!E32 -> -12723.166 | G28: ='4c- ADIT BOY'!F32 -> 0 | H28: ='4c- ADIT BOY'!G32 -> 0
A29: =A28+1 -> 18 | B29: Balance-EOY (Attach 4d, Line 18 less Line 15) | C29: December | D29: =D19 -> 2027 | E29: =SUM(F29:H29) -> 0 | F29: ='4d- ADIT EOY'!E32-'4d- ADIT EOY'!E29 -> 0 | G29: ='4d- ADIT EOY'!F32-'4d- ADIT EOY'!F29 -> 0 | H29: ='4d- ADIT EOY'!G32-'4d- ADIT EOY'!G29 -> 0
A30: =A29+1 -> 19 | B30: Balance-EOY-Prorated (Attach 4b, Line 42) | C30: December | D30: =D20 -> 2027 | E30: =SUM(F30:H30) -> -12965.209 | F30: ='4b-ADIT Projection Proration'!H54 -> -12965.209 | G30: ='4b-ADIT Projection Proration'!J54 -> 0 | H30: ='4b-ADIT Projection Proration'!L54 -> 0
A31: =A30+1 -> 20 | B31: Balance-EOY-Total (Lines 17+18) | C31: December | D31: =D21 -> 2027 | E31: =SUM(F31:H31) -> -12965.209 | F31: =F29+F30 -> -12965.209 | G31: =G29+G30 -> 0 | H31: =H29+H30 -> 0
A32: =A31+1 -> 21 | B32: Total Plant Allocator | F32: 1 | J32: 1
A33: =A32+1 -> 22 | B33: Net Plant Allocator | G33: ='Attachment H'!G$84 -> 1 | J33: Attachment H, Page 2, Line 20
A34: =A33+1 -> 23 | B34: Wages & Salary Allocator | H34: ='Attachment H'!I$199 -> 1 | J34: Attachment H, Page 4, Line 11
A35: =A34+1 -> 24 | B35: Projected ADIT Total | E35: =E31 -> -12965.209 | F35: =+F31*F32 -> -12965.209 | G35: =+G31*G33 -> 0 | H35: =+H31*H34 -> 0 | I35: =+F35+G35+H35 -> -12965.209 | J35: Enter as negative Attachment 4, Page 1, Line 28 for Projection

Sheet 4b-ADIT Projection Proration
A1: Attachment 4b - Accumulated Deferred Income Taxes (ADIT) Proration Worksheet (Projection)
A2: =+'4a-ADIT Projection'!A2:J2 -> Gridliance High Plains LLC
A3: Projection for the 12 Months Ended 12/31/2027
B6: (a) | C6: (b) | D6: (c) | E6: (d) | F6: (e) | G6: (f) | H6: (g) | I6: (h) | J6: (i) | K6: (j) | L6: (k)
B7: Beginning Balance & Monthly Changes | C7: Month | D7: Year | E7: Weighting for Projection | F7: Beginning Balance/ Monthly Increment | G7: Transmission | H7: Transmission Proration (d) x (f) | I7: Plant Related | J7: Plant Proration (d) x (h) | K7: Labor Related | L7: Labor Proration (d) x (j)
A8: ADIT-282-Proration-Note A
A9: 1 | B9: Balance (Attach 4c, Line 30) | C9: December | D9: 2026 | E9: =365/365 -> 1 | F9: ='4c- ADIT BOY'!C54 -> -1718231.5 | G9: ='4c- ADIT BOY'!E54 -> -1718231.5 | H9: =E9*G9 -> -1718231.5 | I9: ='4c- ADIT BOY'!F54 -> 0 | J9: =I9*E9 -> 0 | K9: ='4c- ADIT BOY'!G54 -> 0 | L9: =E9*K9 -> 0
A10: =+A9+1 -> 2 | B10: Increment | C10: January | D10: 2027 | E10: =335/365 -> 0.91780822 | F10: =-('4c- ADIT BOY'!E50-'4d- ADIT EOY'!E50)/12 -> -14027.042 | G10: =F10 -> -14027.042 | H10: =E10*G10 -> -12874.135 | I10: 0 | J10: =I10*E10 -> 0 | K10: 0 | L10: =E10*K10 -> 0
A11: =+A10+1 -> 3 | B11: Increment | C11: February | D11: 2027 | E11: =307/365 -> 0.84109589 | F11: =F10 -> -14027.042 | G11: =F11 -> -14027.042 | H11: =E11*G11 -> -11798.087 | I11: 0 | J11: =I11*E11 -> 0 | K11: 0 | L11: =E11*K11 -> 0
A12: =+A11+1 -> 4 | B12: Increment | C12: March | D12: 2027 | E12: =276/365 -> 0.75616438 | F12: =F11 -> -14027.042 | G12: =F12 -> -14027.042 | H12: =E12*G12 -> -10606.75 | I12: 0 | J12: =I12*E12 -> 0 | K12: 0 | L12: =E12*K12 -> 0
A13: =+A12+1 -> 5 | B13: Increment | C13: April | D13: 2027 | E13: =246/365 -> 0.6739726 | F13: =F12 -> -14027.042 | G13: =F13 -> -14027.042 | H13: =E13*G13 -> -9453.8421 | I13: 0 | J13: =I13*E13 -> 0 | K13: 0 | L13: =E13*K13 -> 0
A14: =+A13+1 -> 6 | B14: Increment | C14: May | D14: 2027 | E14: =215/365 -> 0.5890411 | F14: =F13 -> -14027.042 | G14: =F14 -> -14027.042 | H14: =E14*G14 -> -8262.5043 | I14: 0 | J14: =I14*E14 -> 0 | K14: 0 | L14: =E14*K14 -> 0
A15: =+A14+1 -> 7 | B15: Increment | C15: June | D15: 2027 | E15: =185/365 -> 0.50684932 | F15: =F14 -> -14027.042 | G15: =F15 -> -14027.042 | H15: =E15*G15 -> -7109.5967 | I15: 0 | J15: =I15*E15 -> 0 | K15: 0 | L15: =E15*K15 -> 0
A16: =+A15+1 -> 8 | B16: Increment | C16: July | D16: 2027 | E16: =154/365 -> 0.42191781 | F16: =F15 -> -14027.042 | G16: =F16 -> -14027.042 | H16: =E16*G16 -> -5918.2589 | I16: 0 | J16: =I16*E16 -> 0 | K16: 0 | L16: =E16*K16 -> 0
A17: =+A16+1 -> 9 | B17: Increment | C17: August | D17: 2027 | E17: =123/365 -> 0.3369863 | F17: =F16 -> -14027.042 | G17: =F17 -> -14027.042 | H17: =E17*G17 -> -4726.921 | I17: 0 | J17: =I17*E17 -> 0 | K17: 0 | L17: =E17*K17 -> 0
A18: =+A17+1 -> 10 | B18: Increment | C18: September | D18: 2027 | E18: =93/365 -> 0.25479452 | F18: =F17 -> -14027.042 | G18: =F18 -> -14027.042 | H18: =E18*G18 -> -3574.0135 | I18: 0 | J18: =I18*E18 -> 0 | K18: 0 | L18: =E18*K18 -> 0
A19: =+A18+1 -> 11 | B19: Increment | C19: October | D19: 2027 | E19: =62/365 -> 0.16986301 | F19: =F18 -> -14027.042 | G19: =F19 -> -14027.042 | H19: =E19*G19 -> -2382.6756 | I19: 0 | J19: =I19*E19 -> 0 | K19: 0 | L19: =E19*K19 -> 0
A20: =+A19+1 -> 12 | B20: Increment | C20: November | D20: 2027 | E20: =32/365 -> 0.087671233 | F20: =F19 -> -14027.042 | G20: =F20 -> -14027.042 | H20: =E20*G20 -> -1229.7681 | I20: 0 | J20: =I20*E20 -> 0 | K20: 0 | L20: =E20*K20 -> 0
A21: =+A20+1 -> 13 | B21: Increment | C21: December | D21: 2027 | E21: =1/365 -> 0.002739726 | F21: =F20 -> -14027.042 | G21: =F21 -> -14027.042 | H21: =E21*G21 -> -38.430252 | I21: 0 | J21: =I21*E21 -> 0 | K21: 0 | L21: =E21*K21 -> 0
A22: =+A21+1 -> 14 | B22: ADIT 282-Prorated EOY Balance | F22: =SUM(F9:F21) -> -1886556 | G22: =SUM(G9:G21) -> -1886556 | H22: =SUM(H9:H21) -> -1796206.4 | I22: =SUM(I9:I21) -> 0 | J22: =SUM(J9:J21) -> 0 | K22: =SUM(K9:K21) -> 0 | L22: =SUM(L9:L21) -> 0
A24: ADIT-283-Proration-Note B
A25: =A22+1 -> 15 | B25: Balance (Attach 4c, Line 44) | C25: December | D25: =D9 -> 2026 | E25: =365/365 -> 1 | F25: ='4c- ADIT BOY'!C78 -> -159638.85 | G25: ='4c- ADIT BOY'!E78 -> -159638.85 | H25: =E25*G25 -> -159638.85 | I25: ='4c- ADIT BOY'!F74 -> 0 | J25: =I25*E25 -> 0 | K25: ='4c- ADIT BOY'!G74 -> 0 | L25: =E25*K25 -> 0
A26: =+A25+1 -> 16 | B26: Increment | C26: January | D26: =D10 -> 2027 | E26: =335/365 -> 0.91780822 | F26: 0 | G26: 0 | H26: =E26*G26 -> 0 | I26: 0 | J26: =I26*E26 -> 0 | K26: 0 | L26: =E26*K26 -> 0
A27: =+A26+1 -> 17 | B27: Increment | C27: February | D27: =D11 -> 2027 | E27: =307/365 -> 0.84109589 | F27: 0 | G27: 0 | H27: =E27*G27 -> 0 | I27: 0 | J27: =I27*E27 -> 0 | K27: 0 | L27: =E27*K27 -> 0
A28: =+A27+1 -> 18 | B28: Increment | C28: March | D28: =D12 -> 2027 | E28: =276/365 -> 0.75616438 | F28: 0 | G28: 0 | H28: =E28*G28 -> 0 | I28: 0 | J28: =I28*E28 -> 0 | K28: 0 | L28: =E28*K28 -> 0
A29: =+A28+1 -> 19 | B29: Increment | C29: April | D29: =D13 -> 2027 | E29: =246/365 -> 0.6739726 | F29: 0 | G29: 0 | H29: =E29*G29 -> 0 | I29: 0 | J29: =I29*E29 -> 0 | K29: 0 | L29: =E29*K29 -> 0
A30: =+A29+1 -> 20 | B30: Increment | C30: May | D30: =D14 -> 2027 | E30: =215/365 -> 0.5890411 | F30: 0 | G30: 0 | H30: =E30*G30 -> 0 | I30: 0 | J30: =I30*E30 -> 0 | K30: 0 | L30: =E30*K30 -> 0
A31: =+A30+1 -> 21 | B31: Increment | C31: June | D31: =D15 -> 2027 | E31: =185/365 -> 0.50684932 | F31: 0 | G31: 0 | H31: =E31*G31 -> 0 | I31: 0 | J31: =I31*E31 -> 0 | K31: 0 | L31: =E31*K31 -> 0
A32: =+A31+1 -> 22 | B32: Increment | C32: July | D32: =D16 -> 2027 | E32: =154/365 -> 0.42191781 | F32: 0 | G32: 0 | H32: =E32*G32 -> 0 | I32: 0 | J32: =I32*E32 -> 0 | K32: 0 | L32: =E32*K32 -> 0
A33: =+A32+1 -> 23 | B33: Increment | C33: August | D33: =D17 -> 2027 | E33: =123/365 -> 0.3369863 | F33: 0 | G33: 0 | H33: =E33*G33 -> 0 | I33: 0 | J33: =I33*E33 -> 0 | K33: 0 | L33: =E33*K33 -> 0
A34: =+A33+1 -> 24 | B34: Increment | C34: September | D34: =D18 -> 2027 | E34: =93/365 -> 0.25479452 | F34: 0 | G34: 0 | H34: =E34*G34 -> 0 | I34: 0 | J34: =I34*E34 -> 0 | K34: 0 | L34: =E34*K34 -> 0
A35: =+A34+1 -> 25 | B35: Increment | C35: October | D35: =D19 -> 2027 | E35: =62/365 -> 0.16986301 | F35: 0 | G35: 0 | H35: =E35*G35 -> 0 | I35: 0 | J35: =I35*E35 -> 0 | K35: 0 | L35: =E35*K35 -> 0
A36: =+A35+1 -> 26 | B36: Increment | C36: November | D36: =D20 -> 2027 | E36: =32/365 -> 0.087671233 | F36: 0 | G36: 0 | H36: =E36*G36 -> 0 | I36: 0 | J36: =I36*E36 -> 0 | K36: 0 | L36: =E36*K36 -> 0
A37: =+A36+1 -> 27 | B37: Increment | C37: December | D37: =D21 -> 2027 | E37: =1/365 -> 0.002739726 | F37: 0 | G37: 0 | H37: =E37*G37 -> 0 | I37: 0 | J37: =I37*E37 -> 0 | K37: 0 | L37: =E37*K37 -> 0
A38: =+A37+1 -> 28 | B38: ADIT 283-Prorated EOY Balance | F38: =SUM(F25:F37) -> -159638.85 | G38: =SUM(G25:G37) -> -159638.85 | H38: =SUM(H25:H37) -> -159638.85 | I38: =SUM(I25:I37) -> 0 | J38: =SUM(J25:J37) -> 0 | K38: =SUM(K25:K37) -> 0 | L38: =SUM(L25:L37) -> 0
A40: ADIT-190-Proration-Note C
A41: =A38+1 -> 29 | B41: Balance (Attach 4c, Line 18) | C41: December | D41: =D25 -> 2026 | E41: =365/365 -> 1 | F41: ='4c- ADIT BOY'!C32 -> -12723.166 | G41: ='4c- ADIT BOY'!E32 -> -12723.166 | H41: =E41*G41 -> -12723.166 | I41: ='4c- ADIT BOY'!F28 -> 0 | J41: =I41*E41 -> 0 | K41: ='4c- ADIT BOY'!G28 -> 0 | L41: =E41*K41 -> 0
A42: =+A41+1 -> 30 | B42: Increment | C42: January | D42: =D26 -> 2027 | E42: =335/365 -> 0.91780822 | F42: =('4d- ADIT EOY'!E28-'4c- ADIT BOY'!E28)/12 -> -43.541552 | G42: =F42 -> -43.541552 | H42: =E42*G42 -> -39.962794 | I42: 0 | J42: =I42*E42 -> 0 | K42: 0 | L42: =E42*K42 -> 0
A43: =+A42+1 -> 31 | B43: Increment | C43: February | D43: =D27 -> 2027 | E43: =307/365 -> 0.84109589 | F43: =$F$42 -> -43.541552 | G43: =F43 -> -43.541552 | H43: =E43*G43 -> -36.622621 | I43: 0 | J43: =I43*E43 -> 0 | K43: 0 | L43: =E43*K43 -> 0
A44: =+A43+1 -> 32 | B44: Increment | C44: March | D44: =D28 -> 2027 | E44: =276/365 -> 0.75616438 | F44: =$F$42 -> -43.541552 | G44: =F44 -> -43.541552 | H44: =E44*G44 -> -32.924571 | I44: 0 | J44: =I44*E44 -> 0 | K44: 0 | L44: =E44*K44 -> 0
...

Sheet 4c- ADIT BOY
B1: Attachment 4c - Accumulated Deferred Income Taxes (ADIT) Worksheet (Beginning of Year)
B2: For the 12 Months Ended 12/31/2027
A7: Ln | B7: Item | E7: Transmission Related | F7: Plant Related | G7: Labor Related
A9: 1 | B9: ADIT-282 | E9: =+E54 -> -1718231.5 | F9: =+F54 -> 0 | G9: =+G54 -> 0 | H9: Line 30
A10: =+A9+1 -> 2 | B10: ADIT-283 | E10: =+E78 -> -159638.85 | F10: =+F78 -> 0 | G10: =+G78 -> 0 | H10: Line 44
A11: =+A10+1 -> 3 | B11: ADIT-190 | E11: =E32 -> -12723.166 | F11: =F32 -> 0 | G11: =G32 -> 0 | H11: Line 18
A12: =+A11+1 -> 4 | B12: Subtotal | E12: =SUM(E9:E11) -> -1890593.5 | F12: =SUM(F9:F11) -> 0 | G12: =SUM(G9:G11) -> 0 | H12: Sum of Lines 1-4
B15: In filling out this attachment, a full and complete description of each item and justification for the allocation to Columns B-F and each separate ADIT item will be listed. Dissimilar items with amounts exceeding $100,000 will be listed separately.
B17: A | C17: B | D17: C | E17: D | F17: E | G17: F | H17: G
B18: ADIT-190 | C18: Total | D18: Gas, Prod or Other Related | E18: Transmission Related | F18: Plant Related | G18: Labor Related | H18: Justification
A19: =A12+1 -> 5
A20: =+A19+1 -> 6
A21: =+A20+1 -> 7
A22: =+A21+1 -> 8
A23: =+A22+1 -> 9
A24: =+A23+1 -> 10
A25: =+A24+1 -> 11
A26: =+A25+1 -> 12 | B26: (Excess)/Deficient Deferred Income Taxes - Protected | C26: =E26 -> 0
A27: =+A26+1 -> 13 | B27: (Excess)/Deficient Deferred Income Taxes - Unprotected | C27: =E27 -> 0 | E27: 0
A28: =+A27+1 -> 14 | B28: NOL Carryforward | C28: =E28 -> -12723.166 | E28: ='GLHP Taxes'!K18 -> -12723.166 | H28: Amount subject to Proration
A29: =+A28+1 -> 15 | B29: Subtotal - p234.b | C29: =SUBTOTAL(9,C19:C28) -> -12723.166 | D29: =SUM(D19:D28) -> 0 | E29: =SUM(E19:E28) -> -12723.166 | F29: =SUM(F19:F28) -> 0 | G29: =SUM(G19:G28) -> 0
A30: =+A29+1 -> 16 | B30: Less FASB 109 Above if not separately removed
A31: =+A30+1 -> 17 | B31: Less FASB 106 Above if not separately removed
A32: =+A31+1 -> 18 | B32: Total | C32: =+C29-C30-C31 -> -12723.166 | D32: =+D29-D30-D31 -> 0 | E32: =+E29-E30-E31 -> -12723.166 | F32: =+F29-F30-F31 -> 0 | G32: =+G29-G30-G31 -> 0
B33: Instructions for Account 190:
B34: 1. ADIT items related only to Non-Electric Operations (e.g., Gas, Water, Sewer) or Production are directly assigned to Column C
B35: 2. ADIT items related only to Transmission are directly assigned to Column D
B36: 3. ADIT items related to Plant and not in Columns C & D are included in Column E
B37: 4. ADIT items related to labor and not in Columns C & D are included in Column F
B38: 5. Deferred income taxes arise when items are included in taxable income in different periods than they are included in rates, therefore if the item giving rise to the ADIT is not included in the formula, the associated ADIT amount shall be excluded. This includes but is not limited to SFAS 109 & 158 balance sheet items and the related ADIT.
B41: A | C41: B | D41: C | E41: D | F41: E | G41: F | H41: G
B42: ADIT- 282 | C42: Total | D42: Gas, Prod or Other Related | E42: Transmission Related | F42: Plant Related | G42: Labor Related | H42: Justification
A43: =A32+1 -> 19
A44: =+A43+1 -> 20
A45: =+A44+1 -> 21
A46: =+A45+1 -> 22
A47: =+A46+1 -> 23
A48: =+A47+1 -> 24 | B48: (Excess)/Deficient Deferred Income Taxes - Protected | C48: =E48 -> 0
A49: =+A48+1 -> 25 | B49: (Excess)/Deficient Deferred Income Taxes - Unprotected | C49: =E49 -> 0 | E49: 0
A50: =+A49+1 -> 26 | B50: Plant related | C50: =E50 -> -1718231.5 | E50: ='GLHP Taxes'!K37 -> -1718231.5
...

Sheet 4d- ADIT EOY
B1: Attachment 4d - Accumulated Deferred Income Taxes (ADIT) Worksheet (End of Year)
B2: For the 12 Months Ended 12/31/2027
A7: Ln | B7: Item | E7: Transmission Related | F7: Plant Related | G7: Labor Related
A9: 1 | B9: ADIT- 282 | E9: =+E54 -> -1886556 | F9: =+F54 -> 0 | G9: =+G54 -> 0 | H9: Line 30
A10: =+A9+1 -> 2 | B10: ADIT-283 | E10: =+E78 -> -159638.85 | F10: =+F78 -> 0 | G10: =+G78 -> 0 | H10: Line 44
A11: =+A10+1 -> 3 | B11: ADIT-190 | E11: =E32 -> -13245.664 | F11: =F32 -> 0 | G11: =G32 -> 0 | H11: Line 18
A12: =+A11+1 -> 4 | B12: Subtotal | E12: =SUM(E9:E11) -> -2059440.5 | F12: =SUM(F9:F11) -> 0 | G12: =SUM(G9:G11) -> 0 | H12: Sum of Lines 1-4
B15: In filling out this attachment, a full and complete description of each item and justification for the allocation to Columns B-F and each separate ADIT item will be listed. Dissimilar items with amounts exceeding $100,000 will be listed separately.
B17: A | C17: B | D17: C | E17: D | F17: E | G17: F | H17: G
B18: ADIT-190 | C18: Total | D18: Gas, Prod or Other Related | E18: Transmission Related | F18: Plant Related | G18: Labor Related | H18: Justification
A19: =A12+1 -> 5
A20: =+A19+1 -> 6
A21: =+A20+1 -> 7
A22: =+A21+1 -> 8
A23: =+A22+1 -> 9
A24: =+A23+1 -> 10
A25: =+A24+1 -> 11
A26: =+A25+1 -> 12 | B26: (Excess)/Deficient Deferred Income Taxes - Protected | C26: =E26 -> 0
A27: =+A26+1 -> 13 | B27: (Excess)/Deficient Deferred Income Taxes - Unprotected | C27: =E27 -> 0 | E27: 0
A28: =+A27+1 -> 14 | B28: Plant related | C28: =E28 -> -13245.664 | E28: ='GLHP Taxes'!N18 -> -13245.664 | H28: Amount subject to Proration
A29: =+A28+1 -> 15 | B29: Subtotal - p234.c | C29: =SUBTOTAL(9,C19:C28) -> -13245.664 | D29: =SUM(D19:D28) -> 0 | E29: =SUM(E19:E28) -> -13245.664 | F29: =SUM(F19:F28) -> 0 | G29: =SUM(G19:G28) -> 0
A30: =+A29+1 -> 16 | B30: Less FASB 109 Above if not separately removed
A31: =+A30+1 -> 17 | B31: Less FASB 106 Above if not separately removed
A32: =+A31+1 -> 18 | B32: Total | C32: =+C29-C30-C31 -> -13245.664 | D32: =+D29-D30-D31 -> 0 | E32: =+E29-E30-E31 -> -13245.664 | F32: =+F29-F30-F31 -> 0 | G32: =+G29-G30-G31 -> 0
B33: Instructions for Account 190:
B34: 1. ADIT items related only to Non-Electric Operations (e.g., Gas, Water, Sewer) or Production are directly assigned to Column C
B35: 2. ADIT items related only to Transmission are directly assigned to Column D
B36: 3. ADIT items related to Plant and not in Columns C & D are included in Column E
B37: 4. ADIT items related to labor and not in Columns C & D are included in Column F
B38: 5. Deferred income taxes arise when items are included in taxable income in different periods than they are included in rates, therefore if the item giving rise to the ADIT is not included in the formula, the associated ADIT amount shall be excluded. This includes but is not limited to SFAS 109 & 158 balance sheet items and the related ADIT.
B41: A | C41: B | D41: C | E41: D | F41: E | G41: F | H41: G
B42: ADIT-282 | C42: Total | D42: Gas, Prod or Other Related | E42: Transmission Related | F42: Plant Related | G42: Labor Related | H42: Justification
A43: =A32+1 -> 19
A44: =+A43+1 -> 20
A45: =+A44+1 -> 21
A46: =+A45+1 -> 22
A47: =+A46+1 -> 23
A48: =+A47+1 -> 24 | B48: (Excess)/Deficient Deferred Income Taxes - Protected | C48: =E48 -> 0
A49: =+A48+1 -> 25 | B49: (Excess)/Deficient Deferred Income Taxes - Unprotected | C49: =E49 -> 0 | E49: 0
A50: =+A49+1 -> 26 | B50: Plant related | C50: =E50 -> -1886556 | E50: ='GLHP Taxes'!N37 -> -1886556 | H50: Amount subject to Proration
...

Sheet 4e-ADIT True-up
A1: Attachment 4e - Accumulated Deferred Income Taxes (ADIT) Average Worksheet (True-Up)
A2: =+'Attachment H'!D5 -> Gridliance High Plains LLC
A3: For the 12 Months Ended 12/31/2027
B5: (a) | C5: (b) | D5: (c) | E5: (d) | F5: (e) | G5: (f) | H5: (g) | I5: (h)
A6: Ln | B6: Beginning Balance & Monthly Changes | C6: Month | D6: Year | E6: Balance | F6: Transmission Related | G6: Plant Related | H6: Labor Related | I6: Total (Sum Col. (e), (f) & (g))
A7: ADIT-282
A8: 1 | B8: Balance-BOY (Attach 4c, Line 30) | C8: December | D8: 2023 | E8: =SUM(F8:H8) -> -1718231.5 | F8: ='4c- ADIT BOY'!E54 -> -1718231.5 | G8: ='4c- ADIT BOY'!F54 -> 0 | H8: ='4c- ADIT BOY'!G54 -> 0
A9: =A8+1 -> 2 | B9: Balance-EOY (Attach 4d, Line 30 less Line 27) | C9: December | D9: 2024 | E9: =SUM(F9:H9) -> 0 | F9: ='4d- ADIT EOY'!E54-'4d- ADIT EOY'!E51 -> 0 | G9: ='4d- ADIT EOY'!F54-'4d- ADIT EOY'!F51 -> 0 | H9: ='4d- ADIT EOY'!G54-'4d- ADIT EOY'!G51 -> 0
A10: =+A9+1 -> 3 | B10: Balance-EOY-Prorated (Attach 4f, Line 14) | C10: December | D10: 2024 | E10: =SUM(F10:H10) -> 90349.523 | F10: ='4f-ADIT True-up Proration'!N21 -> 90349.523 | G10: ='4f-ADIT True-up Proration'!W21 -> 0 | H10: ='4f-ADIT True-up Proration'!AF21 -> 0
A11: =+A10+1 -> 4 | B11: Balance-EOY-Total (Lines 2+3) | E11: =SUM(F11:H11) -> 90349.523 | F11: =F9+F10 -> 90349.523 | G11: =G9+G10 -> 0 | H11: =H9+H10 -> 0
A12: =+A11+1 -> 5 | B12: Total Plant Allocator | F12: 1 | J12: 1
A13: =+A12+1 -> 6 | B13: Net Plant Allocator | G13: ='Attachment H'!G$84 -> 1 | J13: Attachment H, Page 2, Line 20
A14: =+A13+1 -> 7 | B14: Wages & Salary Allocator | H14: ='Attachment H'!I$199 -> 1 | J14: Attachment H, Page 4, Line 11
A15: =+A14+1 -> 8 | B15: Projected ADIT Total | E15: =+E11 -> 90349.523 | F15: =F11*F12 -> 90349.523 | G15: =+G11*G13 -> 0 | H15: =+H11*H14 -> 0 | I15: =+F15+G15+H15 -> 90349.523 | J15: Enter as negative Attachment 4, Page 1, Line 28 for True-up
A17: ADIT-283
A18: =A15+1 -> 9 | B18: Balance-BOY (Attach 4c, Line 44) | C18: December | D18: =D8 -> 2023 | E18: =SUM(F18:H18) -> -159638.85 | F18: ='4c- ADIT BOY'!E78 -> -159638.85 | G18: ='4c- ADIT BOY'!F78 -> 0 | H18: ='4c- ADIT BOY'!G78 -> 0
A19: =A18+1 -> 10 | B19: Balance-EOY (Attach 4d, Line 44 less Line 41) | C19: December | D19: =D9 -> 2024 | E19: =SUM(F19:H19) -> 0 | F19: ='4d- ADIT EOY'!E78-'4d- ADIT EOY'!E75 -> 0 | G19: ='4d- ADIT EOY'!F78-'4d- ADIT EOY'!F75 -> 0 | H19: ='4d- ADIT EOY'!G78-'4d- ADIT EOY'!G75 -> 0
A20: =A19+1 -> 11 | B20: Balance-EOY-Prorated (Attach 4f, Line 28) | C20: December | D20: =D10 -> 2024 | E20: =SUM(F20:H20) -> 0 | F20: ='4f-ADIT True-up Proration'!N37 -> 0 | G20: ='4f-ADIT True-up Proration'!W37 -> 0 | H20: ='4f-ADIT True-up Proration'!AF37 -> 0
A21: =A20+1 -> 12 | B21: Balance-EOY-Total (Lines 2+3) | E21: =SUM(F21:H21) -> 0 | F21: =F19+F20 -> 0 | G21: =G19+G20 -> 0 | H21: =H19+H20 -> 0
A22: =A21+1 -> 13 | B22: Total Plant Allocator | F22: 1 | J22: 1
A23: =A22+1 -> 14 | B23: Net Plant Allocator | G23: ='Attachment H'!G$84 -> 1 | J23: Attachment H, Page 2, Line 20
A24: =A23+1 -> 15 | B24: Wages & Salary Allocator | H24: ='Attachment H'!I$199 -> 1 | J24: Attachment H, Page 4, Line 11
A25: =A24+1 -> 16 | B25: Projected ADIT Total | E25: =+E21 -> 0 | F25: =+F21*F22 -> 0 | G25: =+G21*G23 -> 0 | H25: =+H21*H24 -> 0 | I25: =+F25+G25+H25 -> 0 | J25: Enter as negative Attachment 4, Page 1, Line 28 for True-up
A27: ADIT-190
A28: =A25+1 -> 17 | B28: Balance-BOY (Attach 4c, Line 18) | C28: December | D28: =D18 -> 2023 | E28: =SUM(F28:H28) -> -12723.166 | F28: ='4c- ADIT BOY'!E32 -> -12723.166 | G28: ='4c- ADIT BOY'!F32 -> 0 | H28: ='4c- ADIT BOY'!G32 -> 0
A29: =A28+1 -> 18 | B29: Balance-EOY (Attach 4d, Line 18 less Line 15) | C29: December | D29: =D19 -> 2024 | E29: =SUM(F29:H29) -> 0 | F29: ='4d- ADIT EOY'!E32-'4d- ADIT EOY'!E29 -> 0 | G29: ='4d- ADIT EOY'!F32-'4d- ADIT EOY'!F29 -> 0 | H29: ='4d- ADIT EOY'!G32-'4d- ADIT EOY'!G29 -> 0
A30: =A29+1 -> 19 | B30: Balance-EOY-Prorated (Attach 4f, Line 42) | C30: December | D30: =D20 -> 2024 | E30: =SUM(F30:H30) -> 280.45531 | F30: ='4f-ADIT True-up Proration'!N53 -> 280.45531 | G30: ='4f-ADIT True-up Proration'!W53 -> 0 | H30: ='4f-ADIT True-up Proration'!AF53 -> 0
A31: =A30+1 -> 20 | B31: Balance-EOY-Total (Lines 2+3) | E31: =SUM(F31:H31) -> 280.45531 | F31: =F29+F30 -> 280.45531 | G31: =G29+G30 -> 0 | H31: =H29+H30 -> 0
A32: =A31+1 -> 21 | B32: Total Plant Allocator | F32: 1 | J32: 1
A33: =A32+1 -> 22 | B33: Net Plant Allocator | G33: ='Attachment H'!G$84 -> 1 | J33: Attachment H, Page 2, Line 20
A34: =A33+1 -> 23 | B34: Wages & Salary Allocator | H34: ='Attachment H'!I$199 -> 1 | J34: Attachment H, Page 4, Line 11
A35: =A34+1 -> 24 | B35: Projected ADIT Total | E35: =+E31 -> 280.45531 | F35: =+F31*F32 -> 280.45531 | G35: =+G31*G33 -> 0 | H35: =+H31*H34 -> 0 | I35: =+F35+G35+H35 -> 280.45531 | J35: Enter as negative Attachment 4, Page 1, Line 28 for True-up

Sheet 4f-ADIT True-up Proration
A1: Attachment 4f - Accumulated Deferred Income Taxes (ADIT) Proration Worksheet (True-up)
A2: =+'Attachment H'!D5 -> Gridliance High Plains LLC
A3: For the 12 Months Ended 12/31/2027
F5: Transmission | O5: Plant Related | X5: Labor Related
B6: (a) | C6: (b) | D6: (c) | E6: (d) | F6: (e) | G6: (f) | H6: (g) | I6: (f) | J6: (g) | K6: (h) | L6: (i) | M6: (j) | N6: (k) | O6: (e) | P6: (f) | Q6: (g) | R6: (f) | S6: (g) | T6: (h) | U6: (i) | V6: (j) | W6: (k) | X6: (e) | Y6: (f) | Z6: (g) | AA6: (f) | AB6: (g) | AC6: (h) | AD6: (i) | AE6: (j) | AF6: (k)
B7: Beginning Balance & Monthly Changes | C7: Month | D7: Year | E7: Weighting for Projection | F7: Monthly Increment | G7: Proration (d) x (e) | H7: Prorated Projected Balance (Cumulative Sum of f) | I7: Actual Monthly Activity | J7: Difference between projected and actual activity | K7: Partially prorate actual activity above Monthly projection | L7: Partially prorate actual activity below Monthly projection but increases ADIT | M7: Partially prorate actual activity below Monthly projection and is a reduction to ADIT | N7: Partially prorated actual balance | O7: Monthly Increment | P7: Proration (d) x (e) | Q7: Prorated Projected Balance (Cumulative Sum of f) | R7: Actual Monthly Activity | S7: Difference between projected and actual activity | T7: Partially prorate actual activity above Monthly projection | U7: Partially prorate actual activity below Monthly projection but increases ADIT | V7: Partially prorate actual activity below Monthly projection and is a reduction to ADIT | W7: Partially prorated actual balance | X7: Monthly Increment | Y7: Proration (d) x (e) | Z7: Prorated Projected Balance (Cumulative Sum of f) | AA7: Actual Monthly Activity | AB7: Difference between projected and actual activity | AC7: Partially prorate actual activity above Monthly projection | AD7: Partially prorate actual activity below Monthly projection but increases ADIT | AE7: Partially prorate actual activity below Monthly projection and is a reduction to ADIT | AF7: Partially prorated actual balance
A8: ADIT-282-Proration-Note A
A9: 1 | B9: Balance (Attach 4c, Line 30) | C9: December | D9: 2023 | E9: =365/365 -> 1 | H9: ='4c- ADIT BOY'!E54 -> -1718231.5 | N9: 0 | Q9: ='4c- ADIT BOY'!F54 -> 0 | W9: 0 | Z9: ='4c- ADIT BOY'!G54 -> 0 | AF9: 0
A10: =+A9+1 -> 2 | B10: Increment | C10: January | D10: 2024 | E10: =335/365 -> 0.91780822 | F10: ='4b-ADIT Projection Proration'!G10 -> -14027.042 | G10: =$E10*F10 -> -12874.135 | H10: =+G10+H9 -> -1731105.6 | I10: 0 | J10: =I10-F10 -> 14027.042 | K10: =IF(J10>=0,+J10,0) -> 14027.042 | L10: =IF(K10>0,0,IF(I10<0,0,(-(J10)*($E10)))) -> 0 | M10: =IF(K10>0,0,IF(I10>0,0,(-(J10)*($E10)))) -> 0 | N10: =IF(I10<0,N9+M10,N9+$G10+K10-L10) -> 1152.9076 | O10: ='4b-ADIT Projection Proration'!I10 -> 0 | P10: =$E10*O10 -> 0 | Q10: =+P10+Q9 -> 0 | R10: 0 | S10: =R10-O10 -> 0 | T10: =IF(S10>=0,+S10,0) -> 0 | U10: =IF(T10>0,0,IF(R10<0,0,(-(S10)*($E10)))) -> 0 | V10: =IF(T10>0,0,IF(R10>0,0,(-(S10)*($E10)))) -> 0 | W10: =IF(R10<0,W9+V10,W9+P10+T10-U10) -> 0 | X10: ='4b-ADIT Projection Proration'!K10 -> 0 | Y10: =$E10*X10 -> 0 | Z10: =+Y10+Z9 -> 0 | AA10: 0 | AB10: =AA10-X10 -> 0 | AC10: =IF(AB10>=0,+AB10,0) -> 0 | AD10: =IF(AC10>0,0,IF(AA10<0,0,(-(AB10)*($E10)))) -> 0 | AE10: =IF(AC10>0,0,IF(AA10>0,0,(-(AB10)*($E10)))) -> 0 | AF10: =IF(AA10<0,AF9+AE10,AF9+Y10+AC10-AD10) -> 0
