Workbook
Name \___C_._RIGHT_: #REF!
Name \0: #N/A
Name \1: #REF!
Name \b: #N/A
Name \C: #REF!
Name \D: #REF!
Name \E: #REF!
Name \f: #N/A
Name \m: #N/A
Name \p: #REF!
Name \S: #REF!
Name \T: #N/A
Name \U: #REF!
Name \V: #REF!
Name \W: #REF!
Name _____dat1111: #REF!
Name ____C_._DOWN_: #REF!
Name ____dat1111: #REF!
Name ___ASD2: #REF!
Name ___dat1111: #REF!
Name ___INDEX_SHEET___ASAP_Utilities: #REF!
Name ___LYN2: #REF!
Name ___RBN2: #REF!
Name ___RBU2: #REF!
Name ___WSH7: #REF!
Name __ASD2: #REF!
Name __CPK1: #REF!
Name __CPK2: #REF!
Name __CPK3: #REF!
Name __dat1111: #REF!
Name __EGR1: #N/A
Name __EGR2: #N/A
Name __EGR3: #N/A
Name __LYN2: #REF!
Name __RBN2: #REF!
Name __RBU2: #REF!
Name __WSH7: #REF!
Name _1E_1: #N/A
Name _2001E_EBITDA_Multiple: #N/A
Name _31_Dec_00: #REF!
Name _31_Jan_01: #REF!
Name _ASD2: #REF!
Name _BAL1: #N/A
Name _Check_Input: #REF!
Name _Checks: #REF!
Name _CPK1: #REF!
Name _CPK2: #REF!
Name _CPK3: #REF!
Name _CTG1: #N/A
Name _CTG2: #N/A
Name _CTG3: #N/A
Name _CTG4: #N/A
Name _CurrCase: #REF!
Name _dat1111: #REF!
Name _Data_Query: #REF!
Name _Data_Query2: #REF!
Name _DATE_87__?___?: #REF!
Name _EGR1: #N/A
Name _EGR2: #N/A
Name _EGR3: #N/A

Sheet Index
A1: =+'Appendix III'!E7 -> GridLiance West LLC (GLW)
A2: Formula Rate Index
A6: Appendix | B6: III | C6: Main Body of the Formula
A7: Attachment | B7: 1 | C7: Revenue Credit Worksheet
A8: Attachment | B8: =+B7+1 -> 2 | C8: Cost Support
A9: Attachment | B9: 2a | C9: Cost Support
A10: Attachment | B10: 2b | C10: Cost Support
A11: Attachment | B11: =+B8+1 -> 3 | C11: Incentives
A12: Attachment | B12: 3a | C12: Incentive (13 Monthly Balances)
A13: Attachment | B13: 4 | C13: Transmission Enhancement Charge Worksheet
A14: Attachment | B14: 4a | C14: SIT and p
A15: Attachment | B15: =+B13+1 -> 5 | C15: True-Up
A16: Attachment | B16: 6a | C16: Accumulated Deferred Income Taxes (ADIT) Worksheet (Projection)
A17: Attachment | B17: 6b | C17: Accumulated Deferred Income Taxes (ADIT) Worksheet (Projection Proration)
A18: Attachment | B18: 6c | C18: Accumulated Deferred Income Taxes (ADIT) Worksheet (Beginning of Year Projection)
A19: Attachment | B19: 6d | C19: Accumulated Deferred Income Taxes (ADIT) Worksheet (End of Year Projection)
A20: Attachment | B20: 6e | C20: Accumulated Deferred Income Taxes (ADIT) Worksheet (True-up)
A21: Attachment | B21: 6f | C21: Accumulated Deferred Income Taxes (ADIT) Worksheet (True-up Proration)
A22: Attachment | B22: 7 | C22: Depreciation Rates
A23: Attachment | B23: =+B22+1 -> 8 | C23: Future Use
A24: Attachment | B24: =+B23+1 -> 9 | C24: Reg Asset and Abandoned Plant Details
A25: Attachment | B25: 10 | C25: Unfunded Reserves
A26: Attachment | B26: 11 | C26: CWIP
A27: Attachment | B27: 12 | C27: Income Tax Adjustment
A28: Workpapers | C28: WP1-WP5
D68: Calculated (1/8 * (line 38 less line 33b)) | E68: =(E108-E103)/8 -> 0 | J68: =(J108-J103)/8 -> 0

Sheet Appendix III
N1: Input
M2: Appendix III
M3: Page 1 of 5
E5: Rate Formula Template
E6: Utilizing FERC Form 1 Data | M6: Projected Annual Transmission Revenue Requirement | N6: change this
E7: GridLiance West LLC (GLW) | M7: ="For The 12 Months Ended "& TEXT(N7,"mm/dd/yyyy") -> For The 12 Months Ended 12/31/2027 | N7: 46752
C8: Formula Rate - Non-Levelized
E9: (1) | H9: (2) | J9: (3)
A11: Line | J11: Allocated
A12: No. | J12: Amount
A13: 1 | C13: GROSS REVENUE REQUIREMENT | D13: ="(line "&A141&")" -> (line 67) | J13: =+J141 -> 1.5971782e+08
C16: REVENUE CREDITS | E16: Total | G16: Allocator
A17: =+A13+1 -> 2 | C17: =+'1 - Revenue Credits'!B15 -> Total Revenue Credits | D17: ="Attach 1, line "&'1 - Revenue Credits'!A15&"" -> Attach 1, line 7 | E17: =+'1 - Revenue Credits'!D15 -> 121040 | G17: =+G40 -> TP | H17: =+J$168 -> 1 | J17: =+H17*E17 -> 121040
A18: =+A17+1 -> 3 | C18: True-up Adjustment | D18: Attach 5, Line 3, column G | E18: ='5 - True-Up'!H21 -> 8150934.9 | G18: DA | H18: 1 | J18: =+H18*E18 -> 8150934.9
A20: =+A18+1 -> 4 | C20: NET REVENUE REQUIREMENT | D20: ="(line "&A13&" minus line "&A17&" plus line "&A18&")" -> (line 1 minus line 2 plus line 3) | J20: =+J13-J17+J18 -> 1.6774772e+08
M26: Appendix III
M27: Page 2 of 5
C30: Formula Rate - Non-Levelized | E30: Rate Formula Template
E31: Utilizing FERC Form 1 Data
E32: =+E7 -> GridLiance West LLC (GLW) | M32: =+M7 -> For The 12 Months Ended 12/31/2027
C34: (1) | D34: (2) | E34: (3) | H34: (4) | J34: (5)
J35: Transmission
A36: Line | D36: Source | E36: Company Total | G36: Allocator | J36: (Col 3 times Col 4)
A37: No. | C37: RATE BASE:
C39: GROSS PLANT IN SERVICE (Notes M & P)
A40: =+A20+1 -> 5 | C40: Transmission | D40: (Attach 2, line 15) | E40: =+'2 - Cost Support '!F20 -> 3.1027523e+08 | G40: TP | H40: =+J$168 -> 1 | J40: =+H40*E40 -> 3.1027523e+08
A41: =+A40+1 -> 6 | C41: General & Intangible | D41: (Attach 2, lines 30 & 45) | E41: =+'2 - Cost Support '!F36+'2 - Cost Support '!F52 -> 2230547.6 | G41: W/S | H41: =+J$174 -> 1 | J41: =+H41*E41 -> 2230547.6
A42: =+A41+1 -> 7 | C42: ="TOTAL GROSS PLANT (sum lines "&A40&"-"&A41&")" -> TOTAL GROSS PLANT (sum lines 5-6) | E42: =SUM(E40:E41) -> 3.1250578e+08 | G42: GP= | H42: =IF(E42=0,0,J42/E42) -> 1 | J42: =SUM(J40:J41) -> 3.1250578e+08
A44: =+A42+1 -> 8 | C44: ACCUMULATED DEPRECIATION & AMORTIZATION (Notes M & P)
A45: =+A44+1 -> 9 | C45: Transmission | D45: (Attach 2, line 61) | E45: =+'2 - Cost Support '!F73 -> 33343884 | G45: =+G40 -> TP | H45: =+J$168 -> 1 | J45: =+H45*E45 -> 33343884
A46: =+A45+1 -> 10 | C46: General & Intangible | D46: (Attach 2, lines 76 & 91) | E46: =+'2 - Cost Support '!F89+'2 - Cost Support '!F105 -> 3864907.7 | G46: =+G41 -> W/S | H46: =+J$174 -> 1 | J46: =+H46*E46 -> 3864907.7
A47: =+A46+1 -> 11 | C47: ="TOTAL ACCUM. DEPRECIATION (sum lines "&A45&"-"&A46&")" -> TOTAL ACCUM. DEPRECIATION (sum lines 9-10) | E47: =SUM(E45:E46) -> 37208792 | J47: =SUM(J45:J46) -> 37208792
A49: =+A47+1 -> 12 | C49: NET PLANT IN SERVICE
A50: =+A49+1 -> 13 | C50: Transmission | D50: =" (line "&A40&" minus line "&A45&")" -> (line 5 minus line 9) | E50: =+E40-E45 -> 2.7693135e+08 | J50: =+J40-J45 -> 2.7693135e+08
A51: =+A50+1 -> 14 | C51: General & Intangible | D51: =" (line "&A41&" minus line "&A46&")" -> (line 6 minus line 10) | E51: =+E41-E46 -> -1634360 | J51: =+J41-J46 -> -1634360
A52: =+A51+1 -> 15 | C52: ="TOTAL NET PLANT (sum lines "&A50&"-"&A51&")" -> TOTAL NET PLANT (sum lines 13-14) | D52: (If line 13>0, NP= line 15, column 5 / line 15, column 3. If line 15=0, NP=0) | E52: =SUM(E50:E51) -> 2.7529699e+08 | G52: NP= | H52: =IF(E52=0,0,J52/E52) -> 1 | J52: =SUM(J50:J51) -> 2.7529699e+08
A54: =+A52+1 -> 16 | C54: ="ADJUSTMENTS TO RATE BASE (Note "&A210&")" -> ADJUSTMENTS TO RATE BASE (Note A)
A55: =+A54+1 -> 17 | C55: ADIT (Note R) | D55: (Attach 6a or 6e, line 8) | E55: =+'6a-ADIT Projection'!H16 -> 4338222.3 | G55: DA | H55: 1 | J55: =+H55*E55 -> 4338222.3
A56: =+A55+1 -> 18 | C56: Account No. 255 (Note F) | D56: (Attach 2a, line 93) | E56: =+'2a - Cost Support'!G7 -> 0 | G56: NP | H56: =+H$52 -> 1 | J56: =+H56*E56 -> 0
A57: =+A56+1 -> 19 | C57: CWIP | D57: (Attach 11, column (u), line 26) | E57: =+'11 - CWIP'!Y32 -> 1.006949e+09 | G57: DA | H57: 1 | J57: =+E57*H57 -> 1.006949e+09
...

Sheet 1 - Revenue Credits
A1: Attachment 1 - Revenue Credit Workpaper
A2: ='Appendix III'!$E$7 -> GridLiance West LLC (GLW)
B5: Account 454 - Rent from Electric Property (Note 3) | C5: Notes 1 & 3
A6: 1 | B6: Rent from FERC Form No. 1 | C6: Note 3, line 11 | D6: =+C46 -> 121040
B8: Account 456 and 456.1 (Note 3) | C8: Notes 1 & 3
A9: =+A6+1 -> 2 | B9: Other Electric Revenues (Note 2) | C9: Note 3 | D9: 0
A10: 3 | B10: Professional Services | C10: Note 3 | D10: 0
A11: 4 | B11: Revenues from Directly Assigned Transmission Facility Charges (Note 2) | C11: Note 3 | D11: 0
A12: =+A11+1 -> 5 | B12: Rent or Attachment Fees associated with Transmission Facilities | C12: Note 3 | D12: 0
A13: =+A12+1 -> 6 | B13: Other | C13: Note 3 | D13: 0
A15: =+A13+1 -> 7 | B15: Total Revenue Credits | C15: ="Sum lines "&A9&"-"&A13&" + line "&A6&"" -> Sum lines 2-6 + line 1 | D15: =SUM(D9:D13)+D6 -> 121040
A19: Note 1 | B19: All revenues booked to Account 454 that are derived from cost items classified as transmission-related will be included as a revenue credit. All revenues booked to Account 456 that are derived from cost items classified as transmission-related, and are not derived from rates under this transmission formula rate will be included as a revenue credit. Work papers will be included to properly classify revenues booked to these accounts to the transmission function. A breakdown of all Account 454 revenues by subaccount will be provided below, and will be used to derive the proper calculation of revenue credits. A breakdown of all Account 456 revenues by subaccount and customer will be provided and tabulated below, and will be used to develop the proper calculation of revenue credits. All revenue credits that are included in the TRBAA are excluded here.
A20: Note 2 | B20: If the facilities associated with the revenues are not included in the formula, the revenue is shown below, but not included in the total above and explained in the Attachment 3. This includes plant leased to others and the associated expenses outlined in Note M of Appendix III.
A21: Note 3 | B21: All Account 454, 456, and 456.1 Revenues must be itemized below and tie to the FERC Form No. 1 cites set forth below
A23: Line No.
A24: 1 | B24: Account 456 and 456.1 (300.21.b plus 300.22.b) | C24: TOTAL | D24: CALISO | E24: Other 1 | F24: Other 2
A25: 1a | B25: Transmission Service | C25: =SUM(D25:F25) -> 0 | D25: 0 | E25: 0 | F25: 0
A26: … | B26: xxxx
A27: 1x | B27: Trans. Fac. Charge | C27: =SUM(D27:F27) -> 0 | D27: 0 | E27: 0 | F27: 0
A28: 2 | B28: Trans Studies, etc | C28: =SUM(D28:F28) -> 0 | D28: 0 | E28: 0 | F28: 0
A29: 3 | B29: Total (must tie to 300.21.b plus 300.22.b) | C29: =SUM(C25:C28) -> 0 | D29: =SUM(D25:D28) -> 0 | E29: =SUM(E25:E28) -> 0 | F29: =SUM(F25:F28) -> 0
A30: 4 | B30: Less:
A31: 5 | B31: Revenue for Demands in Divisor | C31: =SUM(D31:F31) -> 0 | D31: 0 | E31: 0 | F31: 0
A32: 6 | B32: Revenue Credits included in the TRBAA | C32: =SUM(D32:F32) -> 0 | D32: 0 | E32: 0 | F32: 0
A33: 7 | B33: Sub Total Revenue Credit | C33: =+C29-C31-C32 -> 0 | D33: =+D29-D31-D32 -> 0 | E33: =+E29-E31-E32 -> 0 | F33: =+F29-F31-F32 -> 0
A34: 8 | B34: Prior Period Adjustments (Note 4) | C34: 0 | D34: 0 | E34: 0 | F34: 0
A35: 9 | B35: Total | C35: =SUM(C33:C34) -> 0
A37: 10 | B37: Account 454 | C37: $
A38: 10a | B38: Joint pole attachments - telephone | C38: 121040
A39: 10b | B39: Joint pole attachments - cable | C39: 0
A40: 10c | B40: Underground rentals | C40: 0
A41: 10d | B41: Transmission tower wireless rentals | C41: 0
A42: 10e | B42: Other rentals | C42: 0
A43: 10f | B43: Corporate headquarters sublease | C43: 0
A44: 10g | B44: Misc non-transmission rentals | C44: 0
A45: 10x | B45: xxxx | C45: 0
A46: 11 | B46: Total (must tie to 300.19.b) | C46: =SUM(C38:C45) -> 121040
A48: Note 4 | B48: Prior Period Adjustments will correct errors discovered after an annual true-up to be refunded or charged to customers. The annual update will describe the basis for any Prior Period Adjustments.

Sheet 2 - Cost Support 
A1: Attachment 2 - Cost Support
A2: ='Appendix III'!$E$7 -> GridLiance West LLC (GLW)
A4: Plant in Service Worksheet - Note P from Appendix III
A5: Appendix III Line #s, Descriptions, Notes, Form 1 Page #s and Instructions
A6: 1 | C6: Calculation of Transmission Plant In Service | D6: Source | E6: Year | F6: Balance
A7: =+A6+1 -> 2 | C7: December | D7: p206.58.b less p206.57.b | E7: =YEAR(EDATE('Appendix III'!$N$7,-12)) -> 2026 | F7: 2.37588e+08
A8: =+A7+1 -> 3 | C8: January | D8: Note A | E8: =YEAR('Appendix III'!$N$7) -> 2027 | F8: 2.3759523e+08
A9: =+A8+1 -> 4 | C9: February | D9: Note A | E9: =E8 -> 2027 | F9: 2.3760199e+08
A10: =+A9+1 -> 5 | C10: March | D10: Note A | E10: =E9 -> 2027 | F10: 2.3761004e+08
A11: =+A10+1 -> 6 | C11: April | D11: Note A | E11: =E10 -> 2027 | F11: 2.3761768e+08
A12: =+A11+1 -> 7 | C12: May | D12: Note A | E12: =E11 -> 2027 | F12: 2.3762497e+08
A13: =+A12+1 -> 8 | C13: June | D13: Note A | E13: =E12 -> 2027 | F13: 2.4198079e+08
A14: =+A13+1 -> 9 | C14: July | D14: Note A | E14: =E13 -> 2027 | F14: 2.4211532e+08
A15: =+A14+1 -> 10 | C15: August | D15: Note A | E15: =E14 -> 2027 | F15: 2.4803436e+08
A16: =+A15+1 -> 11 | C16: September | D16: Note A | E16: =E15 -> 2027 | F16: 2.4807958e+08
A17: =+A16+1 -> 12 | C17: October | D17: Note A | E17: =E16 -> 2027 | F17: 2.481041e+08
A18: =+A17+1 -> 13 | C18: November | D18: Note A | E18: =E17 -> 2027 | F18: 2.4811746e+08
A19: =+A18+1 -> 14 | C19: December | D19: p207.58.g less p207.57.g | E19: =E18 -> 2027 | F19: 1.1315085e+09
A20: =+A19+1 -> 15 | C20: Transmission Plant In Service | D20: ="(sum lines "&A7&"-"&A19&") /13" -> (sum lines 2-14) /13 | F20: =SUM(F7:F19)/13 -> 3.1027523e+08
A22: =+A20+1 -> 16 | C22: Calculation of Intangible Plant In Service | D22: Source
A23: =+A22+1 -> 17 | C23: December | D23: p204.5.b | E23: =E7 -> 2026 | F23: 0
A24: =+A23+1 -> 18 | C24: January | D24: Note A | E24: =E8 -> 2027 | F24: 0
A25: =+A24+1 -> 19 | C25: February | D25: Note A | E25: =E9 -> 2027 | F25: 0
A26: =+A25+1 -> 20 | C26: March | D26: Note A | E26: =E10 -> 2027 | F26: 0
A27: =+A26+1 -> 21 | C27: April | D27: Note A | E27: =E11 -> 2027 | F27: 0
A28: =+A27+1 -> 22 | C28: May | D28: Note A | E28: =E12 -> 2027 | F28: 0
A29: =+A28+1 -> 23 | C29: June | D29: Note A | E29: =E13 -> 2027 | F29: 0
A30: =+A29+1 -> 24 | C30: July | D30: Note A | E30: =E14 -> 2027 | F30: 0
A31: =+A30+1 -> 25 | C31: August | D31: Note A | E31: =E15 -> 2027 | F31: 0
A32: =+A31+1 -> 26 | C32: September | D32: Note A | E32: =E16 -> 2027 | F32: 0
A33: =+A32+1 -> 27 | C33: October | D33: Note A | E33: =E17 -> 2027 | F33: 0
A34: =+A33+1 -> 28 | C34: November | D34: Note A | E34: =E18 -> 2027 | F34: 0
A35: =+A34+1 -> 29 | C35: December | D35: p205.5.g | E35: =E19 -> 2027 | F35: 0
A36: =+A35+1 -> 30 | C36: Intangible Plant In Service | D36: ="(sum lines "&A23&" - "&A35&") /13" -> (sum lines 17 - 29) /13 | F36: =SUM(F23:F35)/13 -> 0
A38: =+A36+1 -> 31 | C38: Calculation of General Plant In Service | D38: Source
A39: =+A38+1 -> 32 | C39: December | D39: p206.99.b lessp206.98.b | E39: =E23 -> 2026 | F39: 2229765.6
A40: =+A39+1 -> 33 | C40: January | D40: Note A | E40: =E24 -> 2027 | F40: 2229765.6
A41: =+A40+1 -> 34 | C41: February | D41: Note A | E41: =E25 -> 2027 | F41: 2229765.6
A42: =+A41+1 -> 35 | C42: March | D42: Note A | E42: =E26 -> 2027 | F42: 2229765.6
A43: =+A42+1 -> 36 | C43: April | D43: Note A | E43: =E27 -> 2027 | F43: 2229765.6
...

Sheet 2a - Cost Support
A1: Attachment 2a - Cost Support
A2: ='Appendix III'!$E$7 -> GridLiance West LLC (GLW)
A4: =+'Appendix III'!C54 -> ADJUSTMENTS TO RATE BASE (Note A)
A5: Appendix III Line #s, Descriptions, Notes, Form 1 Page #s and Instructions | J5: Details
E6: Beginning of Year | F6: End of Year | G6: Average Balance | H6: Amortization
A7: =+'2 - Cost Support '!A107+1 -> 93 | C7: Account No. 255 (enter negative) | D7: 266.8.b & 267.8.h | G7: =+E7/2+F7/2 -> 0 | I7: Line 93 used if accumulated deferred tax credits are used to reduce rate base.
A8: 93a | C8: Account No. 255 | D8: 266.8.f | I8: Line 93a used if accumulated deferred tax credits are amortized against taxable income.
A10: 96 | C10: Prepayments (Account 165)
C11: (Prepayments excludes Prepaid Pension Assets and prepaid income taxes) | E11: Year | F11: Balance
A12: =+A10+1 -> 97 | C12: December | D12: 111.57.d | E12: =YEAR(EDATE('Appendix III'!$N$7,-12)) -> 2026 | F12: 795247.51
A13: =+A12+1 -> 98 | C13: January | D13: company records | E13: =YEAR('Appendix III'!$N$7) -> 2027 | F13: 795247.51
A14: =+A13+1 -> 99 | C14: February | D14: company records | E14: =E13 -> 2027 | F14: 795247.51 | H14: =185908+525000 -> 710908
A15: =+A14+1 -> 100 | C15: March | D15: company records | E15: =E14 -> 2027 | F15: 795247.51 | H15: =F15-H14 -> 84339.51
A16: =+A15+1 -> 101 | C16: April | D16: company records | E16: =E15 -> 2027 | F16: 795247.51 | H16: =F16-F15 -> 0
A17: =+A16+1 -> 102 | C17: May | D17: company records | E17: =E16 -> 2027 | F17: 795247.51 | H17: =F17-F16 -> 0
A18: =+A17+1 -> 103 | C18: June | D18: company records | E18: =E17 -> 2027 | F18: 795247.51 | H18: =F18-F17 -> 0
A19: =+A18+1 -> 104 | C19: July | D19: company records | E19: =E18 -> 2027 | F19: 795247.51 | H19: =F19-F18 -> 0
A20: =+A19+1 -> 105 | C20: August | D20: company records | E20: =E19 -> 2027 | F20: 795247.51 | H20: =F20-F19 -> 0
A21: =+A20+1 -> 106 | C21: September | D21: company records | E21: =E20 -> 2027 | F21: 795247.51 | H21: =F21-F20 -> 0
A22: =+A21+1 -> 107 | C22: October | D22: company records | E22: =E21 -> 2027 | F22: 795247.51 | H22: =F22-F21 -> 0
A23: =+A22+1 -> 108 | C23: November | D23: company records | E23: =E22 -> 2027 | F23: 795247.51 | H23: =F23-F22 -> 0
A24: =+A23+1 -> 109 | C24: December | D24: 111.57.c | E24: =E23 -> 2027 | F24: 795247.51 | H24: =F24-F23 -> 0
A25: =+A24+1 -> 110 | C25: Prepayments | D25: ="(sum lines "&A12&"-"&A24&") /13" -> (sum lines 97-109) /13 | F25: =SUM(F12:F24)/13 -> 795247.51
A28: EPRI Dues Cost Support
A29: Appendix III Line #s, Descriptions, Notes, Form 1 Page #s and Instructions | J29: Details
B30: Allocated General & Common Expenses
E31: EPRI Dues | G31: EPRI & EEI Costs
A32: 128 | C32: EPRI and EEI dues and expenses to be excluded from the formula rate | E32: p353._.f (enter FN1 line #)
A34: 128a | C34: List EPRI and EEI dues and expenses
A41: Regulatory Expense Related to Transmission Cost Support
A42: Appendix III Line #s, Descriptions, Notes, Form 1 Page #s and Instructions | G42: Form 1 Amount | H42: Transmission Related | I42: Non-transmission Related | J42: Details*
B43: Directly Assigned A&G | G43: A | H43: B | I43: C
I44: (Col A- Col B)
A45: =+A32+1 -> 129 | C45: Regulatory Commission Exp Account 928 | F45: p323.189.b | I45: =+G45-H45 -> 0
G46: Column B shall be all Regulatory Commission Expenses directly related to transmission service,
G47: RTO filings, or transmission siting itemized at 351.h consistent with Footnote D on Appendix III
G49: * insert case specific detail and associated assignments here
A51: Safety Related and Education and Out Reach Cost Support
A52: Appendix III Line #s, Descriptions, Notes, Form 1 Page #s and Instructions | G52: Form 1 Amount | H52: Safety Related, Education, Siting & Outreach Related | I52: Other | J52: Details
B53: Directly Assigned A&G | G53: A | H53: B | I53: C
...

Sheet 2b - Cost Support
A1: Attachment 2b - Cost Support
A2: =+'Appendix III'!E7 -> GridLiance West LLC (GLW)
A4: Capital Structure
A5: Appendix III Line #s, Descriptions, Notes, Form 1 Page #s and Instructions
C8: Form No.1
A9: Line No. | B9: Description | C9: Reference | D9: December | E9: January | F9: February | G9: March | H9: April | I9: May | J9: June | K9: July | L9: August | M9: September | N9: October | O9: November | P9: December | Q9: 13 Month Avg.
D10: Col. (a) | E10: Col. (b) | F10: Col. (c) | G10: Col. (d) | H10: Col. (e) | I10: Col. (f) | J10: Col. (g) | K10: Col. (h) | L10: Col. (i) | M10: Col. (j) | N10: Col. (k) | O10: Col. (l) | P10: Col. (m) | Q10: Col. (n)
A11: =+'2a - Cost Support'!A100+1 -> 156 | B11: Long Term Debt:
A12: =A11+1 -> 157 | B12: Acct 221 Bonds | C12: 112.18.c,d | D12: 0 | E12: 0 | F12: 0 | G12: 0 | H12: 0 | I12: 0 | J12: 0 | K12: 0 | L12: 0 | M12: 0 | N12: 0 | O12: 0 | P12: 0 | Q12: =IFERROR(AVERAGE(D12:P12),0) -> 0
A13: =A12+1 -> 158 | B13: Acct 223 Advances from Assoc. Companies | C13: 112.20.c,d | D13: 0 | E13: 0 | F13: 0 | G13: 0 | H13: 0 | I13: 0 | J13: 0 | K13: 0 | L13: 0 | M13: 0 | N13: 0 | O13: 0 | P13: 0 | Q13: =IFERROR(AVERAGE(D13:P13),0) -> 0
A14: =A13+1 -> 159 | B14: Acct 224 Other Long Term Debt | C14: 112.21.c,d | D14: 4.1749672e+08 | E14: 4.1749672e+08 | F14: 4.1749672e+08 | G14: 5.0609592e+08 | H14: 5.0609592e+08 | I14: 5.0609592e+08 | J14: 5.7137518e+08 | K14: 5.7137518e+08 | L14: 5.7137518e+08 | M14: 6.0597953e+08 | N14: 6.0597953e+08 | O14: 6.0597953e+08 | P14: 6.5924763e+08 | Q14: =IFERROR(AVERAGE(D14:P14),0) -> 5.3554536e+08
A15: =A14+1 -> 160 | B15: Less Acct 222 Reacquired Debt | C15: 112.19 c,d enter negative | D15: 0 | E15: 0 | F15: 0 | G15: 0 | H15: 0 | I15: 0 | J15: 0 | K15: 0 | L15: 0 | M15: 0 | N15: 0 | O15: 0 | P15: 0 | Q15: =IFERROR(AVERAGE(D15:P15),0) -> 0
A16: =A15+1 -> 161 | B16: Total Long Term Debt | C16: ="Sum Lines "&A11&" - "&A15 -> Sum Lines 156 - 160 | D16: =SUM(D12:D15) -> 4.1749672e+08 | E16: =SUM(E12:E15) -> 4.1749672e+08 | F16: =SUM(F12:F15) -> 4.1749672e+08 | G16: =SUM(G12:G15) -> 5.0609592e+08 | H16: =SUM(H12:H15) -> 5.0609592e+08 | I16: =SUM(I12:I15) -> 5.0609592e+08 | J16: =SUM(J12:J15) -> 5.7137518e+08 | K16: =SUM(K12:K15) -> 5.7137518e+08 | ... Q16: =SUM(Q12:Q15) -> 5.3554536e+08
A17: =A16+1 -> 162
A18: =A17+1 -> 163 | B18: Preferred Stock (Note 1) | C18: 112.3.c,d | D18: 0 | E18: 0 | F18: 0 | G18: 0 | H18: 0 | I18: 0 | J18: 0 | K18: 0 | L18: 0 | M18: 0 | N18: 0 | O18: 0 | P18: 0 | Q18: =IFERROR(AVERAGE(D18:P18),0) -> 0
A19: =A18+1 -> 164
A20: =A19+1 -> 165 | B20: Common Equity- Per Books | C20: 112.16.c,d | D20: 7.5521656e+08 | E20: 8.1143929e+08 | F20: 8.5648876e+08 | G20: 8.206019e+08 | H20: 8.7588567e+08 | I20: 9.4023364e+08 | J20: 9.1165687e+08 | K20: 9.3975958e+08 | L20: 9.6876979e+08 | M20: 9.5992486e+08 | N20: 1.0122853e+09 | O20: 1.0473882e+09 | P20: 1.034226e+09 | Q20: =IFERROR(AVERAGE(D20:P20),0) -> 9.1799049e+08
A21: =A20+1 -> 166 | B21: Less Acct 204 Preferred Stock | C21: 112.3.c,d | D21: 0 | E21: 0 | F21: 0 | G21: 0 | H21: 0 | I21: 0 | J21: 0 | K21: 0 | L21: 0 | M21: 0 | N21: 0 | O21: 0 | P21: 0 | Q21: =IFERROR(AVERAGE(D21:P21),0) -> 0
A22: =A21+1 -> 167 | B22: Less Acct 219 Accum Other Compre. Income | C22: 112.15.c,d | D22: 0 | E22: 0 | F22: 0 | G22: 0 | H22: 0 | I22: 0 | J22: 0 | K22: 0 | L22: 0 | M22: 0 | N22: 0 | O22: 0 | P22: 0 | Q22: =IFERROR(AVERAGE(D22:P22),0) -> 0
A23: =A22+1 -> 168 | B23: Less any acquisition premium or Goodwill | C23: Note 3 | D23: 1.1467245e+08 | E23: 1.1467245e+08 | F23: 1.1467245e+08 | G23: 1.1467245e+08 | H23: 1.1467245e+08 | I23: 1.1467245e+08 | J23: 1.1467245e+08 | K23: 1.1467245e+08 | L23: 1.1467245e+08 | M23: 1.1467245e+08 | N23: 1.1467245e+08 | O23: 1.1467245e+08 | P23: 1.1467245e+08 | Q23: =IFERROR(AVERAGE(D23:P23),0) -> 1.1467245e+08
A24: =A23+1 -> 169 | B24: Less Acct 216.1 Unappropriated Undistributed Subsidiary Earnings | C24: 112.12.c,d | D24: 0 | E24: 0 | F24: 0 | G24: 0 | H24: 0 | I24: 0 | J24: 0 | K24: 0 | L24: 0 | M24: 0 | N24: 0 | O24: 0 | P24: 0 | Q24: =IFERROR(AVERAGE(D24:P24),0) -> 0
A25: =A24+1 -> 170 | B25: ="Adjusted Common Equity" -> Adjusted Common Equity | C25: ="Ln "&A20&" - "&A21&" - "&A22&" - "&A23&" -"&A24 -> Ln 165 - 166 - 167 - 168 -169 | D25: =D20-D21-D22-D23-D24 -> 6.405441e+08 | E25: =E20-E21-E22-E23-E24 -> 6.9676683e+08 | F25: =F20-F21-F22-F23-F24 -> 7.418163e+08 | G25: =G20-G21-G22-G23-G24 -> 7.0592944e+08 | H25: =H20-H21-H22-H23-H24 -> 7.6121321e+08 | I25: =I20-I21-I22-I23-I24 -> 8.2556118e+08 | J25: =J20-J21-J22-J23-J24 -> 7.9698441e+08 | K25: =K20-K21-K22-K23-K24 -> 8.2508712e+08 | ... P25: =P20-P21-P22-P23-P24 -> 9.1955357e+08 | Q25: =Q20-Q21-Q22-Q24-Q23 -> 8.0331804e+08
A26: =A25+1 -> 171
A27: =A26+1 -> 172 | B27: ="Total (Line "&A16&" plus Line "&A18&" plus Line "&A25&")" -> Total (Line 161 plus Line 163 plus Line 170) | D27: =D16+D18+D25 -> 1.0580408e+09 | E27: =E16+E18+E25 -> 1.1142636e+09 | F27: =F16+F18+F25 -> 1.159313e+09 | G27: =G16+G18+G25 -> 1.2120254e+09 | H27: =H16+H18+H25 -> 1.2673091e+09 | I27: =I16+I18+I25 -> 1.3316571e+09 | J27: =J16+J18+J25 -> 1.3683596e+09 | K27: =K16+K18+K25 -> 1.3964623e+09 | ... Q27: =Q16+Q18+Q25 -> 1.3388634e+09
A28: =A27+1 -> 173
A29: =A28+1 -> 174 | B29: Cost of Debt
A30: =A29+1 -> 175 | B30: Acct 427 Interest on Long Term Debt | C30: 117.62.c | P30: 27814520
A31: =A30+1 -> 176 | B31: Acct 428 Amortization of Debt Discount and Expense | C31: 117.63.c | P31: 1458042.1
A32: =A31+1 -> 177 | B32: Acct 428.1 Amortization of Loss on Reacquired Debt | C32: 117.64.c | G32: 0 | H32: 0 | I32: 0 | J32: 0 | K32: 0 | L32: 0 | M32: 0 | N32: 0 | O32: 0 | P32: 0
A33: =A32+1 -> 178 | B33: Acct 430 Interest on Debt to Assoc. Companies (LTD portion only) (Note 2) | C33: 117.67.c | P33: 0
A34: =A33+1 -> 179 | B34: Less: Acct 429 Amort of Premium on Debt | C34: 117.65.c enter negative | P34: 0
A35: =A34+1 -> 180 | B35: Less: Acct 429.1 Amort of Gain on Reacquired Debt | C35: 117.66.c enter negative | P35: 0
A36: =A35+1 -> 181 | B36: Total Interest Expense | C36: ="Sum Lines "&A30&" - "&A35 -> Sum Lines 175 - 180 | P36: =SUM(P30:P35) -> 29272562
A37: =A36+1 -> 182
A38: =A37+1 -> 183 | B38: ="Average Cost of Debt (Line "&A36&" col (m) / Line "&A16&" col (n))" -> Average Cost of Debt (Line 181 col (m) / Line 161 col (n)) | P38: =IF(Q16=0,0,ROUND(P36/Q16,4)) -> 0.0547
A39: =A38+1 -> 184
A40: =A39+1 -> 185 | B40: Cost of Preferred Stock
A41: =A40+1 -> 186 | B41: Preferred Stock Dividends | C41: 118.29.c | P41: 0
A42: =A41+1 -> 187
A43: =A42+1 -> 188 | B43: ="Average Cost of Preferred Stock (Line "&A41&" col (m) / Line "&A18&" col (n))" -> Average Cost of Preferred Stock (Line 186 col (m) / Line 163 col (n)) | P43: =IF(P41=0,0,ROUND(P41/Q18,4)) -> 0
...

Sheet 3 - Incentives
A1: Attachment 3 - Incentive ROE
A2: =+'2 - Cost Support '!A2:F2 -> GridLiance West LLC (GLW)
A5: Incentive ROE
B6: A | C6: B | D6: C | E6: D | F6: E | G6: F | H6: G | I6: H | J6: I
A7: 1 | B7: Rate Base | C7: Appendix III, line 30 | J7: =+'Appendix III'!J71 -> 1.2925884e+09
A9: =+A7+1 -> 2 | B9: 100 Basis Point Incentive Return | I9: $
G10: Cost
D11: $ | E11: % | G11: Appendix III | I11: Weighted
A12: =+A9+1 -> 3 | B12: Long Term Debt | C12: Appendix III, line 83 | D12: =+'Appendix III'!E179 -> 5.3554536e+08 | E12: =+'Appendix III'!F179 -> 0.4 | G12: =+'Appendix III'!H179 -> 0.0547 | I12: =E12*G12 -> 0.02188
A13: =+A12+1 -> 4 | B13: Preferred Stock | C13: Appendix III, line 84 | D13: =+'Appendix III'!E180 -> 0 | E13: =+'Appendix III'!F180 -> 0 | G13: =+'Appendix III'!H180 -> 0 | I13: =E13*G13 -> 0
A14: =+A13+1 -> 5 | B14: Common Stock Including 100 basis points Appendix III, line 85 | D14: =+'Appendix III'!E181 -> 8.0331804e+08 | E14: =+'Appendix III'!F181 -> 0.6 | G14: =+'Appendix III'!H181 -> 0.106 | I14: =E14*G14 -> 0.0636
A15: =+A14+1 -> 6 | B15: Total (sum lines 3-5) | D15: =SUM(D12:D14) -> 1.3388634e+09 | I15: =SUM(I12:I14) -> 0.08548
A16: =+A15+1 -> 7 | B16: 100 Basis Point Incentive Return multiplied by Rate Base (line 1 * line 6 col H) | J16: =+I15*J7 -> 1.1049046e+08
A18: =+A16+1 -> 8 | B18: INCOME TAXES
A19: =+A18+1 -> 9 | B19: T=1 - {[(1 - SIT) * (1 - FIT)] / (1 - SIT * FIT * p)} = (From Appendix III, Line 54) | D19: =+'Appendix III'!E120 -> 0.21
A20: =+A19+1 -> 10 | B20: CIT=(T/1-T) * (1-(WCLTD/R)) = | D20: =IF(I15>0,(D19/(1-D19))*(1-I12/I15),0) -> 0.19778111
A21: =+A20+1 -> 11 | B21: =" where WCLTD=(line "&A12&") and R= (line "&A15&")" -> where WCLTD=(line 3) and R= (line 6)
A22: =+A21+1 -> 12 | B22: =" and FIT, SIT & p are as given in footnote "&'Appendix III'!A217&" on Appendix III." -> and FIT, SIT & p are as given in footnote F on Appendix III.
A23: =+A22+1 -> 13 | B23: =" 1 / (1 - T) = (T from line "&A19&")" -> 1 / (1 - T) = (T from line 9) | D23: =IF(D19>0,1/(1-D19),0) -> 1.2658228
A24: =+A23+1 -> 14 | B24: Amortized Investment Tax Credit (Appendix III, line 59) | D24: =+'Appendix III'!E125 -> 0
A25: =+A24+1 -> 15
A26: =+A25+1 -> 16 | B26: ="Income Tax Calculation = line "&A20&" * line "&A16&"" -> Income Tax Calculation = line 10 * line 7 | D26: =+J16*D20 -> 21852926 | I26: =+J16*D20 -> 21852926
A27: =+A26+1 -> 17 | B27: ="ITC adjustment (line "&A23&" * line "&A24&") and line 17 allocated on NP allocator" -> ITC adjustment (line 13 * line 14) and line 17 allocated on NP allocator | D27: =+D23*D24 -> 0 | F27: NP | G27: =+'Appendix III'!H52 -> 1 | I27: =G27*D27 -> 0
A28: =+A27+1 -> 18 | B28: Total Income Taxes | C28: ="(line "&A26&" plus line "&A27&") " -> (line 16 plus line 17) | D28: =(D27+D26) -> 21852926 | J28: =(I27+I26) -> 21852926
A31: =+A28+1 -> 19 | B31: Return and Income Taxes with 100 basis point increase in ROE | E31: Sum lines 7 and 18 | J31: =+J28+J16 -> 1.3234339e+08
A33: =+A31+1 -> 20 | B33: ="Return (Appendix III line "&'Appendix III'!A135&" col 5)" -> Return (Appendix III line 64 col 5) | J33: =+'Appendix III'!J135 -> 1.1049046e+08
A34: =+A33+1 -> 21 | B34: ="Income Tax (Appendix III line "&'Appendix III'!A132&" col 5)" -> Income Tax (Appendix III line 62 col 5) | J34: =+'Appendix III'!J132 -> 21971130
A35: =+A34+1 -> 22 | B35: Return and Income Taxes without 100 basis point increase in ROE | E35: Sum lines 20 and 21 | J35: =+J33+J34 -> 1.3246159e+08
A36: =+A35+1 -> 23 | B36: Incremental Return and Income Taxes for 100 basis point increase in ROE | E36: Line 19 less line 22 | J36: =+J31-J35 -> -118203.95
A37: =+A36+1 -> 24 | B37: Sum Of Net Plant, CWIP, Abandoned Plant And Regulatory Assets | E37: ="Appendix III, line "&'Appendix III'!A191&" Col. (a)" -> Appendix III, line 91 Col. (a) | J37: =+'Appendix III'!H191 -> 1.2869306e+09
A38: =+A37+1 -> 25 | B38: Carrying Charge Difference for 100 Basis point of ROE | E38: (Line 23 divided by line 24) | J38: =IF(J37=0,0,J36/J37) -> -9.1849515e-05
A40: Note 1: No incentive may be included in the formula absent authorization from FERC
A41: Note 2: The 100 basis points is used to calculate the change in the carrying charge if an incentive is approved by the Commission and does not reflect what ultimately
A42: the Commission might approve as an incentive ROE adder for a specific transmission project.
B44: FERC has authorized incentives for the following projects:
B45: Project | C45: Docket Number

Sheet 3a - Incentives
A1: Attachment 3a - Project (13 Monthly Balances) | Q1: =+A1 -> Attachment 3a - Project (13 Monthly Balances)
A2: =+'Appendix III'!E7 -> GridLiance West LLC (GLW) | Q2: =+A2 -> GridLiance West LLC (GLW)
C4: GROSS PLANT IN SERVICE | P4: ACCUMULATED DEPRECIATION | AD4: NET PLANT IN SERVICE
C5: (a) | D5: (b) | E5: (c) | F5: (d) | G5: (e) | H5: (f) | I5: (g) | J5: (h) | K5: (i) | L5: (j) | M5: (k) | N5: (l) | O5: (m) | P5: (n) | Q5: (o) | R5: (p) | S5: (q) | T5: (r) | U5: (s) | V5: (t) | W5: (u) | X5: (v) | Y5: (w) | Z5: (x) | AA5: (y) | AB5: (z) | AD5: (aa) | AF5: (ab) | AH5: (ac)
A6: Line | B6: Project Name and Identification | C6: Dec | D6: Jan | E6: Feb | F6: Mar | G6: Apr | H6: May | I6: Jun | J6: Jul | K6: Aug | L6: Sept | M6: Oct | N6: Nov | O6: Dec | P6: Dec | Q6: Jan | R6: Feb | S6: Mar | T6: Apr | U6: May | V6: Jun | W6: Jul | X6: Aug | Y6: Sept | Z6: Oct | AA6: Nov | AB6: Dec | AD6: Average Gross | AF6: Average Accum. | AH6: Average Net
A7: No. | AD7: Plant in Service (1) | AE7: - | AF7: Depreciation (2) | AG7: = | AH7: Plant in Service
A8: 1 | B8: 0 | C8: 0 | D8: 0 | E8: 0 | F8: 0 | G8: 0 | H8: 0 | I8: 0 | J8: 0 | K8: 0 | L8: 0 | M8: 0 | N8: 0 | O8: 0 | P8: 0 | Q8: 0 | R8: 0 | S8: 0 | T8: 0 | U8: 0 | V8: 0 | W8: 0 | X8: 0 | Y8: 0 | Z8: 0 | AA8: 0 | AB8: 0 | AD8: =IFERROR(AVERAGE(C8:O8),"") -> 0 | AF8: =IFERROR(AVERAGE(P8:AB8),"") -> 0 | AH8: =IFERROR(AD8-AF8,"") -> 0
A9: 2 | AD9: =IFERROR(AVERAGE(C9:O9),"") | AF9: =IFERROR(AVERAGE(P9:AB9),"") | AH9: =IFERROR(AD9-AF9,"")
A10: 3 | AD10: =IFERROR(AVERAGE(C10:O10),"") | AF10: =IFERROR(AVERAGE(P10:AB10),"") | AH10: =IFERROR(AD10-AF10,"")
A11: 4 | AD11: =IFERROR(AVERAGE(C11:O11),"") | AF11: =IFERROR(AVERAGE(P11:AB11),"") | AH11: =IFERROR(AD11-AF11,"")
A12: 5 | AD12: =IFERROR(AVERAGE(C12:O12),"") | AF12: =IFERROR(AVERAGE(P12:AB12),"") | AH12: =IFERROR(AD12-AF12,"")
A13: 6 | AD13: =IFERROR(AVERAGE(C13:O13),"") | AF13: =IFERROR(AVERAGE(P13:AB13),"") | AH13: =IFERROR(AD13-AF13,"")
A14: 7 | AD14: =IFERROR(AVERAGE(C14:O14),"") | AF14: =IFERROR(AVERAGE(P14:AB14),"") | AH14: =IFERROR(AD14-AF14,"")
A15: 8 | AD15: =IFERROR(AVERAGE(C15:O15),"") | AF15: =IFERROR(AVERAGE(P15:AB15),"") | AH15: =IFERROR(AD15-AF15,"")
A16: 9 | AD16: =IFERROR(AVERAGE(C16:O16),"") | AF16: =IFERROR(AVERAGE(P16:AB16),"") | AH16: =IFERROR(AD16-AF16,"")
A17: 10 | AD17: =IFERROR(AVERAGE(C17:O17),"") | AF17: =IFERROR(AVERAGE(P17:AB17),"") | AH17: =IFERROR(AD17-AF17,"")
A18: 11 | AD18: =IFERROR(AVERAGE(C18:O18),"") | AF18: =IFERROR(AVERAGE(P18:AB18),"") | AH18: =IFERROR(AD18-AF18,"")
A19: 12 | AD19: =IFERROR(AVERAGE(C19:O19),"") | AF19: =IFERROR(AVERAGE(P19:AB19),"") | AH19: =IFERROR(AD19-AF19,"")
A20: 13 | AD20: =IFERROR(AVERAGE(C20:O20),"") | AF20: =IFERROR(AVERAGE(P20:AB20),"") | AH20: =IFERROR(AD20-AF20,"")
... A27: 20 | AD27: =IFERROR(AVERAGE(C27:O27),"") | AF27: =IFERROR(AVERAGE(P27:AB27),"") | AH27: =IFERROR(AD27-AF27,"")
AD29: Notes
AC30: (1) | AD30: Calculated as the average of Columns (a) through (m).
AC31: (2) | AD31: Calculated as the average of Columns (n) through (z).

Sheet 4 - Cap Adds
A2: Attachment 4 - Transmission Enhancement Charge Worksheet
A3: ='Appendix III'!$E$7 -> GridLiance West LLC (GLW)
A5: 1 | B5: Rev Requirement before Incentive Projects | G5: (Appendix III, line 65) | L5: =+'Appendix III'!J137 -> 1.5971782e+08
A6: 2 | B6: Less Transmission Depreciation Expense, Abandoned Plant Amort, Reg Asset Amort, and O&M | G6: (Appendix III, lines 40 & 42 plus Appendix III, line 38) | L6: =+'Appendix III'!J104+'Appendix III'!J106+'Appendix III'!J101 -> 24471672
A7: 3 | B7: Net Rev Req less Depreciation expense and O&M | G7: (Line 1 minus line 2) | L7: =+L5-L6 -> 1.3524615e+08
A8: 4 | B8: Sum Of Net Plant, CWIP, Regulatory Asset and Abandoned Plant | G8: ="(Appendix III, line "&'Appendix III'!A191&" (a))" -> (Appendix III, line 91 (a)) | L8: =+'Appendix III'!H191 -> 1.2869306e+09
A9: 5 | B9: Base Fixed Charge Rate Less Depreciation/Amortization and O&M (Base FCR) | G9: (Line 3 / line 4) | L9: =IF(L8=0,0,L7/L8) -> 0.10509203
A10: 6 | B10: Carrying Charge Difference for 100 Basis point of ROE | G10: (Attachment 3, line 25) | L10: =+'3 - Incentives'!J38 -> -9.1849515e-05
B15: Column A | C15: Column B | D15: Column C | E15: Column D | F15: Column E | G15: Column F | H15: Column G | I15: Column H | J15: Column I | K15: Column J | L15: Column K | M15: Column L | N15: Column M
B16: (Notes 1 and 2)
B17: Project Name and CAISO Identification | C17: Useful life of project/Amort period | D17: Input the allowed ROE Incentive | E17: Line 5 | F17: Line 6 times Col C divided by 100 basis points plus Col D | G17: Actual Rev Req at Base FCR | K17: Actual Rev Req at Increased ROE | L17: Incremental Rev Req at Increased ROE of Incentive Projects | M17: Discount | N17: Net Revenue
D18: Increased ROE (Basis Points) (Note 3) | E18: Base Fixed Charge Rate Less Depreciation/Amortization and O&M (Base FCR (line 5)) | F18: FCR for This Project (Line 6 x Col C /100 + Col D) | G18: 13 Month Balance of Investment (Note 2) (company records) | H18: Depreciation or Amortization Expense (company records) | I18: Directly Assigned O&M (Note 5) | J18: Revenue Requirement | K18: Revenue Requirement | L18: Col J less Col I for Incentive Projects | M18: (Note 4) | N18: Col J - Col L
J19: [Col D x Col F + Col G + Col H] | K19: (Col E x Col F + Col G + Col H)
A21: 7a | B21: 0 | C21: 0 | D21: 0 | E21: =$L$9 -> 0.10509203 | F21: =+L$10*D21/100+E21 -> 0.10509203 | G21: 0 | H21: 0 | I21: 0 | J21: =+E21*G21+H21+I21 -> 0 | K21: =+F21*G21+H21+I21 -> 0 | L21: =+K21-J21 -> 0 | M21: 0 | N21: =+K21-M21 -> 0
A22: 7b | B22: 0 | C22: 0 | D22: 0 | E22: =$L$9 -> 0.10509203 | F22: =+L$10*D22/100+E22 -> 0.10509203 | G22: 0 | H22: 0 | I22: 0 | J22: =+E22*G22+H22+I22 -> 0 | K22: =+F22*G22+H22+I22 -> 0 | L22: =+K22-J22 -> 0 | M22: 0 | N22: =+K22-M22 -> 0
A23: 7c | B23: 0 | C23: 0 | D23: 0 | E23: =$L$9 -> 0.10509203 | F23: =+L$10*D23/100+E23 -> 0.10509203 | G23: 0 | H23: 0 | I23: 0 | J23: =+E23*G23+H23+I23 -> 0 | K23: =+F23*G23+H23+I23 -> 0 | L23: =+K23-J23 -> 0 | M23: 0 | N23: =+K23-M23 -> 0
A24: 7d | B24: 0 | C24: 0 | D24: 0 | E24: =$L$9 -> 0.10509203 | F24: =+L$10*D24/100+E24 -> 0.10509203 | G24: 0 | H24: 0 | I24: 0 | J24: =+E24*G24+H24+I24 -> 0 | K24: =+F24*G24+H24 -> 0 | L24: =+K24-J24 -> 0 | M24: 0 | N24: =+K24-M24 -> 0
A25: 7e | B25: 0 | C25: 0 | D25: 0 | E25: =$L$9 -> 0.10509203 | F25: =+L$10*D25/100+E25 -> 0.10509203 | G25: 0 | H25: 0 | I25: 0 | J25: =+E25*G25+H25+I25 -> 0 | K25: =+F25*G25+H25 -> 0 | L25: =+K25-J25 -> 0 | M25: 0 | N25: =+K25-M25 -> 0
A26: 7f | B26: 0 | C26: 0 | D26: 0 | E26: =$L$9 -> 0.10509203 | F26: =+L$10*D26/100+E26 -> 0.10509203 | G26: 0 | H26: 0 | I26: 0 | J26: =+E26*G26+H26+I26 -> 0 | K26: =+F26*G26+H26 -> 0 | L26: =+K26-J26 -> 0 | M26: 0 | N26: =+K26-M26 -> 0
A27: 7g | B27: 0 | C27: 0 | D27: 0 | E27: =$L$9 -> 0.10509203 | F27: =+L$10*D27/100+E27 -> 0.10509203 | G27: 0 | H27: 0 | I27: 0 | J27: =+E27*G27+H27+I27 -> 0 | K27: =+F27*G27+H27 -> 0 | L27: =+K27-J27 -> 0 | M27: 0 | N27: =+K27-M27 -> 0
A28: 7h | B28: 0 | C28: 0 | D28: 0 | E28: =$L$9 -> 0.10509203 | F28: =+L$10*D28/100+E28 -> 0.10509203 | G28: 0 | H28: 0 | I28: 0 | J28: =+E28*G28+H28+I28 -> 0 | K28: =+F28*G28+H28 -> 0 | L28: =+K28-J28 -> 0 | M28: 0 | N28: =+K28-M28 -> 0
A29: … | B29: 0 | C29: 0 | D29: 0 | E29: =$L$9 -> 0.10509203 | F29: =+L$10*D29/100+E29 -> 0.10509203 | G29: 0 | H29: 0 | I29: 0 | J29: =+E29*G29+H29+I29 -> 0 | K29: =+F29*G29+H29 -> 0 | L29: =+K29-J29 -> 0 | M29: 0 | N29: =+K29-M29 -> 0
A30: 8 | B30: Total (sum of lines 7 above) | G30: =SUM(G21:G29) -> 0 | H30: =SUM(H21:H29) -> 0 | I30: =SUM(I21:I29) -> 0 | J30: =SUM(J21:J29) -> 0 | K30: =SUM(K21:K29) -> 0 | L30: =SUM(L21:L29) -> 0 | M30: 0 | N30: =+K30-M30 -> 0
A31: 9 | B31: Line 9 must tie to the lines above as shown | G31: Total of Col F ties to Line 4 | H31: Total of Col G ties to the sum of Appendix III, lines 33b, 40 & 42, col 5) | I31: Total of Col H ties to Appendix III, Lines 38 - line 33b | J31: Total of Col I ties to Line 1 Total | K31: Total of Col J ties to Appendix III, Line 65 | L31: Total of Col K ties to Appendix III, Line 66 | N31: Total to be Charged
A34: Note 1: Add additional lines after line 7i for additional projects
A35: Note 2: Regulatory Assets, Abandoned Plant, authorized CWIP in rate base, and plant in-service shall be listed separately on lines 7 for each project
A36: Note 3: No incentive may be included in the formula absent authorization from FERC
B37: FERC has authorized incentives for the following projects:
B38: Project | C38: Docket Number
A42: Note 4: The Discount in Column L is the reduction in revenue, if any, that the company agreed to, for instance, to be selected to build facilities as the result of a competitive process and equals the amount by which the
A43: annual revenue requirement is reduced from the ceiling rate. A workpaper will be provided to show the calculation of the discount.
A44: Note 5: All O&M will be directly assigned to each project with plant in service based on the invoiced amount per project. The detail supporting the O&M direct assignment will be provided in a workpaper and the totals shown in a Form No. 1 footnote to pages 320-323.
A45: A&G will be allocated in proportion to the Transmission O&M for each item in Lines 7 (not including amortization of Regulatory Asset(s) booked to Account 566).
B46: A | C46: B | E46: C | F46: D | G46: E
B47: Project | C47: O&M (excluding Amortization of Regulatory Assets) (Line 11 is equal to Appendix III, line 32 - line 33 + line 33a, col 5 attributable to each project based on invoices) | E47: %O&M (Col B / total Col B) | F47: A&G [(Appendix III, line 34 - line 35 + lines 36 & 37, col 5) * (Col C) | G47: O&M (including A&G) (Col B + Col D)
A48: 10 | B48: 0 | C48: 0 | E48: =IF(C48>0,C48/C$52,0) -> 0 | F48: =('Appendix III'!J$100-'Appendix III'!J$101+'Appendix III'!J$102+'Appendix III'!J$103)*E48 -> 0 | G48: =+C48+F48 -> 0
A49: 10a | B49: 0 | C49: 0 | E49: =IF(C49>0,C49/C$52,0) -> 0 | F49: =('Appendix III'!J$100-'Appendix III'!J$101+'Appendix III'!J$102+'Appendix III'!J$103)*E49 -> 0 | G49: =+C49+F49 -> 0
A50: 10b | E50: =IF(C50>0,C50/C$52,0) -> 0
A51: … | E51: =IF(C51>0,C51/C$52,0) -> 0
A52: 11 | B52: Total (sum lines 10 above) | C52: =SUM(C48:D51) -> 0 | G52: =SUM(G48:G51) -> 0
...

Sheet 5 - True-Up
A2: Attachment 5 - Example of True-Up Calculation
B7: Year | F7: Annual True-Up Calculation
A8: 1 | B8: =+YEAR(TODAY())-1 -> 2025
B9: A | C9: B | D9: C | E9: D | F9: E | G9: F | H9: G
F10: Net
D11: Adjusted | F11: Under/(Over) | G11: Interest | H11: Total True-Up
B12: Project | D12: Net Revenue | F12: Collection | G12: Income | H12: Adjustment
B13: Identification | C13: Project Name | D13: Requirement1 | E13: Revenue Received2 | F13: (C-D) | G13: (Expense) | H13: (E + F)
A14: 2 | B14: Southwest Nevada Asset | C14: Southwest Nevada | D14: 91286977 | E14: 83876147 | F14: =+D14-E14 -> 7410829.9 | G14: =F14*(E45*24) -> 1092568.1 | H14: =+F14+G14 -> 8503397.9
A15: 2a | B15: Prior Period Adjustment | D15: 0 | E15: 0 | F15: -307909 | G15: -44554 | H15: =+F15+G15 -> -352463
A16: 2b | D16: 0 | E16: 0 | F16: =D16-E16 -> 0 | G16: 0 | H16: =+F16+G16 -> 0
A17: 2c | D17: 0 | E17: 0 | F17: =D17-E17 -> 0 | G17: 0 | H17: =+F17+G17 -> 0
A18: 2d | D18: 0 | E18: 0 | F18: =D18-E18 -> 0 | G18: 0 | H18: =+F18+G18 -> 0
D19: 0 | E19: 0 | F19: =D19-E19 -> 0 | G19: 0 | H19: =+F19+G19 -> 0
A21: 3 | B21: Total | D21: =SUM(D14:D19) -> 91286977 | E21: =SUM(E14:E19) -> 83876147 | F21: =SUM(F14:F19) -> 7102920.9 | G21: =SUM(G14:G19) -> 1048014.1 | H21: =SUM(H14:H19) -> 8150934.9
B24: Notes
B25: 1. From Attachment 4, Column M for the period being trued-up
B26: 2. The "revenue received" is the total amount of revenue distributed to GWT in the True-Up Year. The amounts do not include any true-ups, prior period
B27: adjustments, or TRBAA amounts and reflects any Competitive Bid Concessions
B28: 3. Then Monthly Interest Rate shall be equal to the interest rate set forth below on line 13 and be applied to the amount in Column E for a period of 24 months
B29: 4. The True-Up Adjustment is applied to each project pro rata based its contribution to the Revenue Requirement shown in Attachment 4
B30: 5. 2a Column (C) prior period adjustment for revenue received 2021-2022, Column (F) is interest
B32: FERC Refund Interest Rate
B34: (a) | C34: (b) | D34: (c) | E34: (d)
A35: 4 | B35: Interest Rate: | C35: Quarter | D35: Year | E35: Quarterly Interest Rate under Section 35.19(a)
A36: 5 | C36: 1st Qtr. | D36: 2025 | E36: 0.0067
A37: 6 | C37: 2nd Qtr | D37: =+D36 -> 2025 | E37: 0.0063
A38: 7 | C38: 3rd Qtr | D38: =+D37 -> 2025 | E38: 0.0063
A39: 8 | C39: 4th Qtr | D39: =+D38 -> 2025 | E39: 0.0063
A40: 9 | C40: 1st Qtr | D40: =+D39+1 -> 2026 | E40: 0.006
A41: 10 | C41: 2nd Qtr | D41: =+D40 -> 2026 | E41: 0.0057
A42: 11 | C42: 3rd Qtr | D42: =+D41 -> 2026 | E42: 0.0057
A43: 12 | C43: Sum lines 5-11 | E43: =SUM(E36:E42) -> 0.043
A45: 13 | B45: Avg. Monthly FERC Rate | C45: Line 12 divided by 7 | E45: =E43/7 -> 0.0061428571

Sheet 6a-ADIT Projection
A1: Attachment 6a - Accumulated Deferred Income Taxes (ADIT) Average Worksheet (Projection)
A2: =+'Appendix III'!E7 -> GridLiance West LLC (GLW)
A3: ="Projection for the 12 Months Ended "& TEXT('Appendix III'!$N$7,"mm/dd/yyyy") -> Projection for the 12 Months Ended 12/31/2027
B5: A | E5: B | F5: C | G5: D | H5: E
H6: (Sum Col. B, C & D)
A7: Ln | B7: Item | E7: Transmission Related | F7: Plant Related | G7: Labor Related | H7: Total
A9: 1 | B9: ADIT-282 (enter negative) | E9: =F25 -> 3798476 | F9: =G25 -> 0 | G9: =H25 -> 0 | I9: Line 12
A10: =+A9+1 -> 2 | B10: ADIT-283 (enter negative) | E10: =F31 -> 614274.68 | F10: =G31 -> 0 | G10: =H31 -> 0 | I10: Line 16
A11: =+A10+1 -> 3 | B11: ADIT-190 | E11: =F37 -> -74528.302 | F11: =G38 -> 0 | G11: =H38 -> 0 | I11: Line 20
A12: =+A11+1 -> 4 | B12: Subtotal | E12: =SUM(E9:E11) -> 4338222.3 | F12: =SUM(F9:F11) -> 0 | G12: =SUM(G9:G11) -> 0 | I12: Sum of Lines 1-3
A13: =+A12+1 -> 5 | B13: Wages & Salary Allocator (sum lines 1-3 for each column) | G13: =+'Appendix III'!J174 -> 1 | I13: Appendix III, line 81
A14: =+A13+1 -> 6 | B14: Net Plant Allocator | F14: =+'Appendix III'!H52 -> 1 | I14: Appendix III, line 15
A15: =+A14+1 -> 7 | B15: Total Plant Allocator | E15: 1 | I15: 1
A16: =+A15+1 -> 8 | B16: Projected ADIT Total | E16: =+E15*E12 -> 4338222.3 | F16: =+F14*F12 -> 0 | G16: =+G13*G12 -> 0 | H16: =+E16+F16+G16 -> 4338222.3 | I16: Enter as negative Appendix III, page 2, line 17
B19: (a) | C19: (b) | D19: (c) | E19: (d) | F19: (e) | G19: (f) | H19: (g)
B20: Beginning Balance & Monthly Changes | C20: Month | D20: Year | E20: Balance | F20: Transmission Related | G20: Plant Related | H20: Labor Related
A21: ADIT-282
A22: =A16+1 -> 9 | B22: Balance-BOY (Attach 6c, Line 30) | C22: December | D22: =YEAR(EDATE('Appendix III'!$N$7,-12)) -> 2026 | E22: ='6c- ADIT BOY'!C54 -> 3494991 | F22: ='6c- ADIT BOY'!E54 -> 3494991 | G22: ='6c- ADIT BOY'!F54 -> 0 | H22: ='6c- ADIT BOY'!G54 -> 0
A23: =A22+1 -> 10 | B23: EOY (Attach 6d, Line 30 less Line 27) | C23: December | D23: =YEAR('Appendix III'!$N$7) -> 2027 | E23: ='6d- ADIT EOY'!C54-'6d- ADIT EOY'!C51 -> 0 | F23: ='6d- ADIT EOY'!E54-'6d- ADIT EOY'!E51 -> 0 | G23: ='6d- ADIT EOY'!F54-'6d- ADIT EOY'!F51 -> 0 | H23: ='6d- ADIT EOY'!G54-'6d- ADIT EOY'!G51 -> 0
A24: =A23+1 -> 11 | B24: Balance-EOY Prorated (Attach 6b, Line 14) | C24: December | D24: =D23 -> 2027 | E24: =SUM(F24:H24) -> 3798476 | F24: ='6b-ADIT Projection Proration'!H22 -> 3798476 | G24: ='6b-ADIT Projection Proration'!J22 -> 0 | H24: ='6b-ADIT Projection Proration'!L22 -> 0
A25: =A24+1 -> 12 | B25: ADIT 282-Total (Lines 10+11) | E25: =E23+E24 -> 3798476 | F25: =F23+F24 -> 3798476 | G25: =G23+G24 -> 0 | H25: =H23+H24 -> 0
A27: ADIT-283
A28: =A25+1 -> 13 | B28: Balance-BOY (Attach 6c, Line 44) | C28: December | D28: =D22 -> 2026 | E28: ='6c- ADIT BOY'!C78 -> 609091 | F28: ='6c- ADIT BOY'!E78 -> 609091 | G28: ='6c- ADIT BOY'!F78 -> 0 | H28: ='6c- ADIT BOY'!G78 -> 0
A29: =A28+1 -> 14 | B29: EOY (Attach 6d, Line 44 less Line 41) | C29: December | D29: =D23 -> 2027 | E29: ='6d- ADIT EOY'!C78-'6d- ADIT EOY'!C75 -> 0 | F29: ='6d- ADIT EOY'!E78-'6d- ADIT EOY'!E75 -> 0 | G29: ='6d- ADIT EOY'!F78-'6d- ADIT EOY'!F75 -> 0 | H29: ='6d- ADIT EOY'!G78-'6d- ADIT EOY'!G75 -> 0
A30: =A29+1 -> 15 | B30: EOY Prorated (Attach 6b, Line 28) | C30: December | D30: =D24 -> 2027 | E30: =SUM(F30:H30) -> 614274.68 | F30: ='6b-ADIT Projection Proration'!H38 -> 614274.68 | G30: ='6b-ADIT Projection Proration'!J38 -> 0 | H30: ='6b-ADIT Projection Proration'!L38 -> 0
A31: =A30+1 -> 16 | B31: ADIT 283-Total (Lines 14+15) | E31: =E29+E30 -> 614274.68 | F31: =F29+F30 -> 614274.68 | G31: =G29+G30 -> 0 | H31: =H29+H30 -> 0
A33: ADIT-190
A34: =A31+1 -> 17 | B34: Balance-BOY (Attach 6c, Line 18) | C34: December | D34: =D28 -> 2026 | E34: ='6c- ADIT BOY'!C32 -> -70430 | F34: ='6c- ADIT BOY'!E32 -> -70430 | G34: ='6c- ADIT BOY'!F32 -> 0 | H34: ='6c- ADIT BOY'!G32 -> 0
A35: =A34+1 -> 18 | B35: EOY (Attach 6d, Line 18 less Line 15) | C35: December | D35: =D29 -> 2027 | E35: ='6d- ADIT EOY'!C32-'6d- ADIT EOY'!C29 -> 0 | F35: ='6d- ADIT EOY'!E32-'6d- ADIT EOY'!E29 -> 0 | G35: ='6d- ADIT EOY'!F32-'6d- ADIT EOY'!F29 -> 0 | H35: ='6d- ADIT EOY'!G32-'6d- ADIT EOY'!G29 -> 0
A36: =A35+1 -> 19 | B36: EOY Prorated (Attach 6b, Line 42) | C36: December | D36: =D30 -> 2027 | E36: =SUM(F36:H36) -> -74528.302 | F36: ='6b-ADIT Projection Proration'!H54 -> -74528.302 | G36: ='6b-ADIT Projection Proration'!J54 -> 0 | H36: ='6b-ADIT Projection Proration'!L54 -> 0
A37: =A36+1 -> 20 | B37: ADIT 190-Total (Lines 18+19) | E37: =E35+E36 -> -74528.302 | F37: =F35+F36 -> -74528.302 | G37: =G35+G36 -> 0 | H37: =H35+H36 -> 0

Sheet 6b-ADIT Projection Proration
A1: Attachment 6b - Accumulated Deferred Income Taxes (ADIT) Proration Worksheet (Projection)
A2: =+'6a-ADIT Projection'!A2:I2 -> GridLiance West LLC (GLW)
A3: ='6a-ADIT Projection'!A3 -> Projection for the 12 Months Ended 12/31/2027
B6: (a) | C6: (b) | D6: (c) | E6: (d) | F6: (e) | G6: (f) | H6: (g) | I6: (h) | J6: (i) | K6: (j) | L6: (k)
B7: Beginning Balance & Monthly Changes | C7: Month | D7: Year | E7: Weighting for Projection | F7: Beginning Balance/ Monthly Increment | G7: Transmission | H7: Transmission Proration (d) x (f) | I7: Plant Related | J7: Plant Proration (d) x (h) | K7: Labor Related | L7: Labor Proration (d) x (j)
A8: ADIT-282-Proration-Note A
A9: 1 | B9: Balance (Attach 6c, Line 30) | C9: December | D9: =YEAR(EDATE('Appendix III'!$N$7,-12)) -> 2026 | E9: =365/365 -> 1 | F9: ='6c- ADIT BOY'!C54 -> 3494991 | G9: ='6c- ADIT BOY'!E54 -> 3494991 | H9: =E9*G9 -> 3494991 | I9: ='6c- ADIT BOY'!F54 -> 0 | J9: =I9*E9 -> 0 | K9: ='6c- ADIT BOY'!G54 -> 0 | L9: =E9*K9 -> 0
A10: =+A9+1 -> 2 | B10: Increment | C10: January | D10: =YEAR('Appendix III'!$N$7) -> 2027 | E10: =335/365 -> 0.91780822 | F10: =-('6c- ADIT BOY'!E50-'6d- ADIT EOY'!E50)/12 -> 54594.386 | G10: =F10 -> 54594.386 | H10: =E10*G10 -> 50107.176 | I10: 0 | J10: =I10*E10 -> 0 | K10: 0 | L10: =E10*K10 -> 0
A11: =+A10+1 -> 3 | B11: Increment | C11: February | D11: =D10 -> 2027 | E11: =307/365 -> 0.84109589 | F11: =F$10 -> 54594.386 | G11: =F11 -> 54594.386 | H11: =E11*G11 -> 45919.114 | I11: 0 | J11: =I11*E11 -> 0 | K11: 0 | L11: =E11*K11 -> 0
A12: =+A11+1 -> 4 | B12: Increment | C12: March | D12: =D11 -> 2027 | E12: =276/365 -> 0.75616438 | F12: =F$10 -> 54594.386 | G12: =F12 -> 54594.386 | H12: =E12*G12 -> 41282.33 | I12: 0 | J12: =I12*E12 -> 0 | K12: 0 | L12: =E12*K12 -> 0
A13: =+A12+1 -> 5 | B13: Increment | C13: April | D13: =D12 -> 2027 | E13: =246/365 -> 0.6739726 | F13: =F$10 -> 54594.386 | G13: =F13 -> 54594.386 | H13: =E13*G13 -> 36795.121 | I13: 0 | J13: =I13*E13 -> 0 | K13: 0 | L13: =E13*K13 -> 0
A14: =+A13+1 -> 6 | B14: Increment | C14: May | D14: =D13 -> 2027 | E14: =215/365 -> 0.5890411 | F14: =F$10 -> 54594.386 | G14: =F14 -> 54594.386 | H14: =E14*G14 -> 32158.337 | I14: 0 | J14: =I14*E14 -> 0 | K14: 0 | L14: =E14*K14 -> 0
A15: =+A14+1 -> 7 | B15: Increment | C15: June | D15: =D14 -> 2027 | E15: =185/365 -> 0.50684932 | F15: =F$10 -> 54594.386 | G15: =F15 -> 54594.386 | H15: =E15*G15 -> 27671.127 | I15: 0 | J15: =I15*E15 -> 0 | K15: 0 | L15: =E15*K15 -> 0
A16: =+A15+1 -> 8 | B16: Increment | C16: July | D16: =D15 -> 2027 | E16: =154/365 -> 0.42191781 | F16: =F$10 -> 54594.386 | G16: =F16 -> 54594.386 | H16: =E16*G16 -> 23034.344 | I16: 0 | J16: =I16*E16 -> 0 | K16: 0 | L16: =E16*K16 -> 0
A17: =+A16+1 -> 9 | B17: Increment | C17: August | D17: =D16 -> 2027 | E17: =123/365 -> 0.3369863 | F17: =F$10 -> 54594.386 | G17: =F17 -> 54594.386 | H17: =E17*G17 -> 18397.56 | I17: 0 | J17: =I17*E17 -> 0 | K17: 0 | L17: =E17*K17 -> 0
A18: =+A17+1 -> 10 | B18: Increment | C18: September | D18: =D17 -> 2027 | E18: =93/365 -> 0.25479452 | F18: =F$10 -> 54594.386 | G18: =F18 -> 54594.386 | H18: =E18*G18 -> 13910.35 | I18: 0 | J18: =I18*E18 -> 0 | K18: 0 | L18: =E18*K18 -> 0
A19: =+A18+1 -> 11 | B19: Increment | C19: October | D19: =D18 -> 2027 | E19: =62/365 -> 0.16986301 | F19: =F$10 -> 54594.386 | G19: =F19 -> 54594.386 | H19: =E19*G19 -> 9273.567 | I19: 0 | J19: =I19*E19 -> 0 | K19: 0 | L19: =E19*K19 -> 0
A20: =+A19+1 -> 12 | B20: Increment | C20: November | D20: =D19 -> 2027 | E20: =32/365 -> 0.087671233 | F20: =F$10 -> 54594.386 | G20: =F20 -> 54594.386 | H20: =E20*G20 -> 4786.3571 | I20: 0 | J20: =I20*E20 -> 0 | K20: 0 | L20: =E20*K20 -> 0
A21: =+A20+1 -> 13 | B21: Increment | C21: December | D21: =D20 -> 2027 | E21: =1/365 -> 0.002739726 | F21: =F$10 -> 54594.386 | G21: =F21 -> 54594.386 | H21: =E21*G21 -> 149.57366 | I21: 0 | J21: =I21*E21 -> 0 | K21: 0 | L21: =E21*K21 -> 0
A22: =+A21+1 -> 14 | B22: ADIT 282-Prorated EOY Balance | F22: =SUM(F9:F21) -> 4150123.6 | G22: =SUM(G9:G21) -> 4150123.6 | H22: =SUM(H9:H21) -> 3798476 | I22: =SUM(I9:I21) -> 0 | J22: =SUM(J9:J21) -> 0 | K22: =SUM(K9:K21) -> 0 | L22: =SUM(L9:L21) -> 0
A24: ADIT-283-Proration-Note B
A25: =A22+1 -> 15 | B25: Balance (Attach 6c, Line 44) | C25: December | D25: =D9 -> 2026 | E25: =365/365 -> 1 | F25: ='6c- ADIT BOY'!C78 -> 609091 | G25: ='6c- ADIT BOY'!E78 -> 609091 | H25: =E25*G25 -> 609091 | I25: ='6c- ADIT BOY'!F78 -> 0 | J25: =I25*E25 -> 0 | K25: ='6c- ADIT BOY'!G78 -> 0 | L25: =E25*K25 -> 0
A26: =+A25+1 -> 16 | B26: Increment | C26: January | D26: =D10 -> 2027 | E26: =335/365 -> 0.91780822 | F26: =-('6c- ADIT BOY'!E74-'6d- ADIT EOY'!E74)/12 -> 932.5 | G26: =F26 -> 932.5 | H26: =E26*G26 -> 855.85616 | I26: 0 | J26: =I26*E26 -> 0 | K26: 0 | L26: =E26*K26 -> 0
A27: =+A26+1 -> 17 | B27: Increment | C27: February | D27: =D11 -> 2027 | E27: =307/365 -> 0.84109589 | F27: =$F$26 -> 932.5 | G27: =F27 -> 932.5 | H27: =E27*G27 -> 784.32192 | I27: 0 | J27: =I27*E27 -> 0 | K27: 0 | L27: =E27*K27 -> 0
A28: =+A27+1 -> 18 | B28: Increment | C28: March | D28: =D12 -> 2027 | E28: =276/365 -> 0.75616438 | F28: =$F$26 -> 932.5 | G28: =F28 -> 932.5 | H28: =E28*G28 -> 705.12329 | I28: 0 | J28: =I28*E28 -> 0 | K28: 0 | L28: =E28*K28 -> 0
A29: =+A28+1 -> 19 | B29: Increment | C29: April | D29: =D13 -> 2027 | E29: =246/365 -> 0.6739726 | F29: =$F$26 -> 932.5 | G29: =F29 -> 932.5 | H29: =E29*G29 -> 628.47945 | I29: 0 | J29: =I29*E29 -> 0 | K29: 0 | L29: =E29*K29 -> 0
A30: =+A29+1 -> 20 | B30: Increment | C30: May | D30: =D14 -> 2027 | E30: =215/365 -> 0.5890411 | F30: =$F$26 -> 932.5 | G30: =F30 -> 932.5 | H30: =E30*G30 -> 549.28082 | I30: 0 | J30: =I30*E30 -> 0 | K30: 0 | L30: =E30*K30 -> 0
A31: =+A30+1 -> 21 | B31: Increment | C31: June | D31: =D15 -> 2027 | E31: =185/365 -> 0.50684932 | F31: =$F$26 -> 932.5 | G31: =F31 -> 932.5 | H31: =E31*G31 -> 472.63699 | I31: 0 | J31: =I31*E31 -> 0 | K31: 0 | L31: =E31*K31 -> 0
A32: =+A31+1 -> 22 | B32: Increment | C32: July | D32: =D16 -> 2027 | E32: =154/365 -> 0.42191781 | F32: =$F$26 -> 932.5 | G32: =F32 -> 932.5 | H32: =E32*G32 -> 393.43836 | I32: 0 | J32: =I32*E32 -> 0 | K32: 0 | L32: =E32*K32 -> 0
A33: =+A32+1 -> 23 | B33: Increment | C33: August | D33: =D17 -> 2027 | E33: =123/365 -> 0.3369863 | F33: =$F$26 -> 932.5 | G33: =F33 -> 932.5 | H33: =E33*G33 -> 314.23973 | I33: 0 | J33: =I33*E33 -> 0 | K33: 0 | L33: =E33*K33 -> 0
A34: =+A33+1 -> 24 | B34: Increment | C34: September | D34: =D18 -> 2027 | E34: =93/365 -> 0.25479452 | F34: =$F$26 -> 932.5 | G34: =F34 -> 932.5 | H34: =E34*G34 -> 237.59589 | I34: 0 | J34: =I34*E34 -> 0 | K34: 0 | L34: =E34*K34 -> 0
A35: =+A34+1 -> 25 | B35: Increment | C35: October | D35: =D19 -> 2027 | E35: =62/365 -> 0.16986301 | F35: =$F$26 -> 932.5 | G35: =F35 -> 932.5 | H35: =E35*G35 -> 158.39726 | I35: 0 | J35: =I35*E35 -> 0 | K35: 0 | L35: =E35*K35 -> 0
A36: =+A35+1 -> 26 | B36: Increment | C36: November | D36: =D20 -> 2027 | E36: =32/365 -> 0.087671233 | F36: =$F$26 -> 932.5 | G36: =F36 -> 932.5 | H36: =E36*G36 -> 81.753425 | I36: 0 | J36: =I36*E36 -> 0 | K36: 0 | L36: =E36*K36 -> 0
A37: =+A36+1 -> 27 | B37: Increment | C37: December | D37: =D21 -> 2027 | E37: =1/365 -> 0.002739726 | F37: =$F$26 -> 932.5 | G37: =F37 -> 932.5 | H37: =E37*G37 -> 2.5547945 | I37: 0 | J37: =I37*E37 -> 0 | K37: 0 | L37: =E37*K37 -> 0
A38: =+A37+1 -> 28 | B38: ADIT 283-Prorated EOY Balance | F38: =SUM(F25:F37) -> 620281 | G38: =SUM(G25:G37) -> 620281 | H38: =SUM(H25:H37) -> 614274.68 | I38: =SUM(I25:I37) -> 0 | J38: =SUM(J25:J37) -> 0 | K38: =SUM(K25:K37) -> 0 | L38: =SUM(L25:L37) -> 0
A40: ADIT-190-Proration-Note C
A41: =A38+1 -> 29 | B41: Balance (Attach 6c, Line 18) | C41: December | D41: =D25 -> 2026 | E41: =365/365 -> 1 | F41: ='6c- ADIT BOY'!C32 -> -70430 | G41: ='6c- ADIT BOY'!E32 -> -70430 | H41: =E41*G41 -> -70430 | I41: ='6c- ADIT BOY'!F32 -> 0 | J41: =I41*E41 -> 0 | K41: ='6c- ADIT BOY'!G32 -> 0 | L41: =E41*K41 -> 0
A42: =+A41+1 -> 30 | B42: Increment | C42: January | D42: =D26 -> 2027 | E42: =335/365 -> 0.91780822 | F42: =-('6c- ADIT BOY'!E28-'6d- ADIT EOY'!E28)/12 -> -737.25 | G42: =F42 -> -737.25 | H42: =E42*G42 -> -676.65411 | I42: 0 | J42: =I42*E42 -> 0 | K42: 0 | L42: =E42*K42 -> 0
A43: =+A42+1 -> 31 | B43: Increment | C43: February | D43: =D27 -> 2027 | E43: =307/365 -> 0.84109589 | F43: =$F$42 -> -737.25 | G43: =F43 -> -737.25 | H43: =E43*G43 -> -620.09795 | I43: 0 | J43: =I43*E43 -> 0 | K43: 0 | L43: =E43*K43 -> 0
A44: =+A43+1 -> 32 | B44: Increment | C44: March | D44: =D28 -> 2027 | E44: =276/365 -> 0.75616438 | F44: =$F$42 -> -737.25 | G44: =F44 -> -737.25 | H44: =E44*G44 -> -557.48219 | I44: 0 | J44: =I44*E44 -> 0 | K44: 0 | L44: =E44*K44 -> 0
...

Sheet 6c- ADIT BOY
B1: Attachment 6c - Accumulated Deferred Income Taxes (ADIT) Worksheet (Beginning of Year)
B2: ='Appendix III'!$M$7 -> For The 12 Months Ended 12/31/2027
A7: Ln | B7: Item | E7: Transmission Related | F7: Plant Related | G7: Labor Related
A9: 1 | B9: ADIT-282 | E9: =+E54 -> 3494991 | F9: =+F54 -> 0 | G9: =+G54 -> 0 | H9: Line 30
A10: =+A9+1 -> 2 | B10: ADIT-283 | E10: =+E78 -> 609091 | F10: =+F78 -> 0 | G10: =+G78 -> 0 | H10: Line 44
A11: =+A10+1 -> 3 | B11: ADIT-190 | E11: =E32 -> -70430 | F11: =F32 -> 0 | G11: =G32 -> 0 | H11: Line 18
A12: =+A11+1 -> 4 | B12: Subtotal | E12: =SUM(E9:E11) -> 4033652 | F12: =SUM(F9:F11) -> 0 | G12: =SUM(G9:G11) -> 0 | H12: Sum of Lines 1-4
B15: In filling out this attachment, a full and complete description of each item and justification for the allocation to Columns B-F and each separate ADIT item will be listed. Dissimilar items with amounts exceeding $100,000 will be listed separately. For ADIT directly related to project depreciation or CWIP, the balance will be shown in a separate row for each project.
B17: A | C17: B | D17: C | E17: D | F17: E | G17: F | H17: G
B18: ADIT-190 | C18: Total | D18: Gas, Prod or Other Related | E18: Transmission Related | F18: Plant Related | G18: Labor Related | H18: Justification
A19: =A12+1 -> 5
A20: =+A19+1 -> 6
A21: =+A20+1 -> 7
A22: =+A21+1 -> 8
A23: =+A22+1 -> 9
A24: =+A23+1 -> 10
A25: =+A24+1 -> 11
A26: =+A25+1 -> 12 | B26: (Excess)/Deficient Deferred Income Taxes - Protected | C26: =E26 -> 0
A27: =+A26+1 -> 13 | B27: (Excess)/Deficient Deferred Income Taxes - Unprotected | C27: =E27 -> 0
A28: =+A27+1 -> 14 | B28: NOL Carryforward | C28: =E28 -> -70430 | E28: -70430 | H28: Amount subject to Proration
A29: =+A28+1 -> 15 | B29: Subtotal - p234.b | C29: =SUBTOTAL(9,C19:C28) -> -70430 | D29: =SUM(D19:D28) -> 0 | E29: =SUM(E19:E28) -> -70430 | F29: =SUM(F19:F28) -> 0 | G29: =SUM(G19:G28) -> 0
A30: =+A29+1 -> 16 | B30: Less FASB 109 Above if not separately removed
A31: =+A30+1 -> 17 | B31: Less FASB 106 Above if not separately removed
A32: =+A31+1 -> 18 | B32: Total | C32: =+C29-C30-C31 -> -70430 | D32: =+D29-D30-D31 -> 0 | E32: =+E29-E30-E31 -> -70430 | F32: =+F29-F30-F31 -> 0 | G32: =+G29-G30-G31 -> 0
B33: Instructions for Account 190:
B34: 1. ADIT items related only to Non-Electric Operations (e.g., Gas, Water, Sewer) or Production are directly assigned to Column C
B35: 2. ADIT items related only to Transmission are directly assigned to Column D
B36: 3. ADIT items related to Plant and not in Columns C & D are included in Column E
B37: 4. ADIT items related to labor and not in Columns C & D are included in Column F
B38: 5. Deferred income taxes arise when items are included in taxable income in different periods than they are included in rates, therefore if the item giving rise to the ADIT is not included in the formula, the associated ADIT amount shall be excluded. This includes but is not limited to SFAS 109 & 158 balance sheet items and the related ADIT.
B41: A | C41: B | D41: C | E41: D | F41: E | G41: F | H41: G
B42: ADIT- 282 | C42: Total | D42: Gas, Prod or Other Related | E42: Transmission Related | F42: Plant Related | G42: Labor Related | H42: Justification
A43: =A32+1 -> 19
A44: =+A43+1 -> 20
A45: =+A44+1 -> 21
A46: =+A45+1 -> 22
A47: =+A46+1 -> 23
A48: =+A47+1 -> 24 | B48: (Excess)/Deficient Deferred Income Taxes - Protected | C48: =E48 -> 0
A49: =+A48+1 -> 25 | B49: (Excess)/Deficient Deferred Income Taxes - Unprotected
A50: =+A49+1 -> 26 | B50: Depreciation Items | C50: =E50 -> 3494991 | E50: 3494991 | H50: Amount subject to Proration
...

Sheet 6d- ADIT EOY
B1: Attachment 6d - Accumulated Deferred Income Taxes (ADIT) Worksheet (End of Year)
