Workbook

Sheet 2025 PPA Summary
B2: Original PPA - Filed with 2023 True-up/2025 Projection
B3: A | C3: B | D3: C | E3: D = C-B | F3: E | G3: F = D-E | H3: G | I3: H | J3: I = G-H | K3: J = F+I | N3: Interest Rates used in 2023 True-Up
B4: Year | C4: Projection | D4: Actual | E4: under / (over) | H4: income / (expense) | K4: under / (over)
E5: Expense True-Up | F5: True-Up Filed w/ FERC | G5: True-Up Diff | H5: Interest Expense True-Up | I5: Interest Filed w/ FERC | J5: Interest Diff | K5: Total Diff | O5: (a) | P5: (b) | Q5: (c) | R5: (d)
B6: 2021 | C6: =+'2021 & 2022 Revenue Projections'!L13-'2021 & 2022 Revenue Projections'!L17 -> 39498880 | D6: =+'2021 & 2022 TU Calculations'!E19 -> 40218327 | E6: =+D6-C6 -> 719447.44 | F6: =+'2021 & 2022 TU Calculations'!G19 -> -2037142.6 | G6: =+E6-F6 -> 2756590 | H6: =+E6*'2021 & 2022 TU Calculations'!F43*24 -> 53773.558 | I6: =+'2021 & 2022 TU Calculations'!H19 -> -152261.86 | J6: =+H6-I6 -> 206035.41 | K6: =+G6+J6 -> 2962625.4 | L6: Prior period adjustment | N6: 4 | O6: Interest Rate: | P6: Quarter | Q6: Year | R6: Quarterly Interest Rate under Section 35.19(a)
B7: 2022 | C7: =+'2021 & 2022 Revenue Projections'!L36-'2021 & 2022 Revenue Projections'!L40 -> 39171566 | D7: =+'2021 & 2022 TU Calculations'!E62 -> 45359894 | E7: =+D7-C7 -> 6188328.1 | F7: =+'2021 & 2022 TU Calculations'!G62 -> -934980.9 | G7: =+E7-F7 -> 7123309 | H7: =+E7*'2021 & 2022 TU Calculations'!F86*24 -> 407722.42 | I7: =+'2021 & 2022 TU Calculations'!H62 -> -61601.884 | J7: =+H7-I7 -> 469324.3 | K7: =+G7+J7 -> 7592633.3 | L7: Prior period adjustment | N7: 5 | P7: 1st Qtr. | Q7: 2023 | R7: 0.0053
C8: =+SUM(C6:C7) -> 78670446 | D8: =+SUM(D6:D7) -> 85578222 | E8: =+SUM(E6:E7) -> 6907775.5 | F8: =+SUM(F6:F7) -> -2972123.5 | G8: =+SUM(G6:G7) -> 9879899 | H8: =+SUM(H6:H7) -> 461495.97 | I8: =+SUM(I6:I7) -> -213863.74 | J8: =+SUM(J6:J7) -> 675359.71 | K8: =+SUM(K6:K7) -> 10555259 | L8: Total Prior Period Adjustments | N8: 6 | P8: 2nd Qtr | Q8: 2023 | R8: 0.0063
K9: =+K8*R16*24 -> 1686428.8 | L9: Interest on prior perod | N9: 7 | P9: 3rd Qtr | Q9: 2023 | R9: 0.0067
K10: =+K8+K9 -> 12241687 | L10: Total Prior Period Due | N10: 8 | P10: 4th Qtr | Q10: 2023 | R10: 0.007
N11: 9 | P11: 1st Qtr. | Q11: 2024 | R11: 0.0071
N12: 10 | P12: 2nd Qtr | Q12: 2024 | R12: 0.0071
N13: 11 | P13: 3rd Qtr | Q13: 2024 | R13: 0.0071
N14: 12 | P14: Sum lines 5-11 | R14: =SUM(R7:R13) -> 0.0466
N16: 13 | O16: Avg. Monthly FERC Rate | P16: Line 12 divided by 7 | R16: =R14/7 -> 0.0066571429
B19: Revised True-Up Calculations
B20: A | C20: B | D20: C | E20: D = C-B | F20: E | G20: F = D-E | H20: G | I20: H | J20: I = G-H | K20: J = F+I
B21: Year | C21: Projection | D21: Actual | E21: under / (over) | H21: income / (expense) | K21: under / (over) | P21: =+SUM(P23:P46) -> 474472.03 | Q21: =+SUM(Q35:Q46) -> 664696.18 | R21: =+SUM(R47:R70) -> -44677.579
E22: Expense True-Up | F22: True-Up Filed w/ FERC | G22: True-Up Diff | H22: Interest Expense True-Up | I22: Interest Filed w/ FERC | J22: Interest Diff | K22: Total Diff | O22: Monthly FERC Rate | P22: 2021 Correction | Q22: 2022 Correction | R22: 2025 PPA
B23: 2021 | C23: =+'2021 & 2022 Revenue Projections'!L13-'2021 & 2022 Revenue Projections'!L17 -> 39498880 | D23: =+'2021 & 2022 TU Calculations'!E19 -> 40218327 | E23: =+D23-C23 -> 719447.44 | F23: =+'2021 & 2022 TU Calculations'!G19 -> -2037142.6 | G23: =+E23-F23 -> 2756590 | H23: =+'2021 & 2022 TU Calculations'!V19 -> 47360.197 | I23: =+'2021 & 2022 TU Calculations'!H19 -> -152261.86 | J23: =+H23-I23 -> 199622.05 | K23: =+G23+J23 -> 2956212.1 | L23: Prior period adjustment | N23: 2023-01 | O23: 0.0054 | P23: =+$K$23*O23 -> 15963.545
B24: 2022 | C24: =+'2021 & 2022 Revenue Projections'!L36-'2021 & 2022 Revenue Projections'!L40 -> 39171566 | D24: =+'2021 & 2022 TU Calculations'!E62 -> 45359894 | E24: =+D24-C24 -> 6188328.1 | F24: =+'2021 & 2022 TU Calculations'!G62 -> -934980.9 | G24: =+E24-F24 -> 7123309 | H24: =+'2021 & 2022 TU Calculations'!V62 -> 653487.45 | I24: =+'2021 & 2022 TU Calculations'!H62 -> -61601.884 | J24: =+H24-I24 -> 715089.33 | K24: =+G24+J24 -> 7838398.3 | L24: Prior period adjustment | N24: 2023-02 | O24: 0.0048 | P24: =+$K$23*O24 -> 14189.818
C25: =+SUM(C23:C24) -> 78670446 | D25: =+SUM(D23:D24) -> 85578222 | E25: =+SUM(E23:E24) -> 6907775.5 | F25: =+SUM(F23:F24) -> -2972123.5 | G25: =+SUM(G23:G24) -> 9879899 | H25: =+SUM(H23:H24) -> 700847.65 | I25: =+SUM(I23:I24) -> -213863.74 | J25: =+SUM(J23:J24) -> 914711.38 | K25: =+SUM(K23:K24) -> 10794610 | L25: Total Prior Period Adjustments | N25: 2023-03 | O25: 0.0054 | P25: =+$K$23*O25 -> 15963.545
K26: =+P21+Q21 -> 1139168.2 | L26: Interest on prior perod | N26: 2023-04 | O26: 0.0062 | P26: =+$K$23*O26 -> 18328.515
K27: =+K25+K26 -> 11933779 | L27: Total Prior Period Due | N27: 2023-05 | O27: 0.0064 | P27: =+$K$23*O27 -> 18919.757
N28: 2023-06 | O28: 0.0062 | P28: =+$K$23*O28 -> 18328.515
N29: 2023-07 | O29: 0.0068 | P29: =+$K$23*O29 -> 20102.242
N30: 2023-08 | O30: 0.0068 | P30: =+$K$23*O30 -> 20102.242
N31: 2023-09 | O31: 0.0066 | P31: =+$K$23*O31 -> 19511
N32: 2023-10 | O32: 0.0071 | P32: =+$K$23*O32 -> 20989.106
N33: 2023-11 | O33: 0.0069 | P33: =+$K$23*O33 -> 20397.863
B34: 2025 Prior Period Adjustment (Filed with 2027 Projection) | N34: 2023-12 | O34: 0.0071 | P34: =+$K$23*O34 -> 20989.106
B35: A | C35: B | D35: C | E35: D = C-B | F35: E | G35: F = D-E | H35: G | I35: H | J35: I = G-H | K35: J = F+I | N35: 2024-01 | O35: 0.0072 | P35: =+$K$23*O35 -> 21284.727 | Q35: =+$K$24*O35 -> 56436.468
B36: Year | C36: Projection | D36: Actual | E36: under / (over) | H36: income / (expense) | K36: under / (over) | N36: 2024-02 | O36: 0.0068 | P36: =+$K$23*O36 -> 20102.242 | Q36: =+$K$24*O36 -> 53301.109
E37: Expense True-Up | F37: True-Up Filed w/ FERC | G37: True-Up Diff | H37: Interest Expense True-Up | I37: Interest Filed w/ FERC | J37: Interest Diff | K37: Total Diff | N37: 2024-03 | O37: 0.0072 | P37: =+$K$23*O37 -> 21284.727 | Q37: =+$K$24*O37 -> 56436.468
B38: 2021 | C38: =+C23-C6 -> 0 | D38: =+D23-D6 -> 0 | E38: =+E23-E6 -> 0 | F38: =+F23-F6 -> 0 | G38: =+G23-G6 -> 0 | H38: =+H23-H6 -> -6413.3601 | I38: =+I23-I6 -> 0 | J38: =+J23-J6 -> -6413.3601 | K38: =+K23-K6 -> -6413.3601 | L38: Prior period adjustment | N38: 2024-04 | O38: 0.007 | P38: =+$K$23*O38 -> 20693.484 | Q38: =+$K$24*O38 -> 54868.788
B39: 2022 | C39: =+C24-C7 -> 0 | D39: =+D24-D7 -> 0 | E39: =+E24-E7 -> 0 | F39: =+F24-F7 -> 0 | G39: =+G24-G7 -> 0 | H39: =+H24-H7 -> 245765.03 | I39: =+I24-I7 -> 0 | J39: =+J24-J7 -> 245765.03 | K39: =+K24-K7 -> 245765.03 | L39: Prior period adjustment | N39: 2024-05 | O39: 0.0068 | P39: =+$K$23*O39 -> 20102.242 | Q39: =+$K$24*O39 -> 53301.109
C40: =+SUM(C38:C39) -> 0 | D40: =+SUM(D38:D39) -> 0 | E40: =+SUM(E38:E39) -> 0 | F40: =+SUM(F38:F39) -> 0 | G40: =+SUM(G38:G39) -> 0 | H40: =+SUM(H38:H39) -> 239351.67 | I40: =+SUM(I38:I39) -> 0 | J40: =+SUM(J38:J39) -> 239351.67 | K40: =+SUM(K38:K39) -> 239351.67 | L40: Total Prior Period Adjustments | N40: 2024-06 | O40: 0.007 | P40: =+$K$23*O40 -> 20693.484 | Q40: =+$K$24*O40 -> 54868.788
K41: =+K26-K9 -> -547260.55 | L41: Interest on prior perod | N41: 2024-07 | O41: 0.0072 | P41: =+$K$23*O41 -> 21284.727 | Q41: =+$K$24*O41 -> 56436.468
K42: =+K40+K41 -> -307908.88 | L42: Total Prior Period Due | N42: 2024-08 | O42: 0.0072 | P42: =+$K$23*O42 -> 21284.727 | Q42: =+$K$24*O42 -> 56436.468
K43: =+R21 -> -44677.579 | L43: 2025 PPA Interest | N43: 2024-09 | O43: 0.007 | P43: =+$K$23*O43 -> 20693.484 | Q43: =+$K$24*O43 -> 54868.788
K44: =+K42+K43 -> -352586.46 | L44: Total to be Returned | N44: 2024-10 | O44: 0.0072 | P44: =+$K$23*O44 -> 21284.727 | Q44: =+$K$24*O44 -> 56436.468
...

Sheet 2021 & 2022 Revenue Projections
B2: 2021
G5: Rate Formula Template | N5: Projected Annual Transmission Revenue Requirement
G6: Utilizing FERC Form 1 Data | N6: For The 12 Months Ended 12/31/2021
G7: GridLiance West LLC (GLW)
E8: Formula Rate - Non-Levelized
G9: (1) | J9: (2) | L9: (3)
C11: Line | L11: Allocated
C12: No. | L12: Amount
C13: 1 | E13: GROSS REVENUE REQUIREMENT | F13: (line 67) | L13: 39537538
E16: REVENUE CREDITS | G16: Total | I16: Allocator
C17: 2 | E17: Total Revenue Credits | F17: Attach 1, line 7 | G17: 38658 | I17: TP | J17: 1 | L17: 38658
C18: 3 | E18: True-up Adjustment | F18: Attach 5, Line 3, column G | G18: -1860877 | I18: DA | J18: 1 | L18: -1860877
C20: 4 | E20: NET REVENUE REQUIREMENT | F20: (line 1 minus line 2 plus line 3) | L20: 37638003
B25: 2022
G28: Rate Formula Template | N28: Projected Annual Transmission Revenue Requirement
G29: Utilizing FERC Form 1 Data | N29: For The 12 Months Ended 12/31/2022
G30: GridLiance West LLC (GLW)
E31: Formula Rate - Non-Levelized
G32: (1) | J32: (2) | L32: (3)
C34: Line | L34: Allocated
C35: No. | L35: Amount
C36: 1 | E36: GROSS REVENUE REQUIREMENT | F36: (line 67) | L36: 39210224
E39: REVENUE CREDITS | G39: Total | I39: Allocator
C40: 2 | E40: Total Revenue Credits | F40: Attach 1, line 7 | G40: 38658 | I40: TP | J40: 1 | L40: 38658
C41: 3 | E41: True-up Adjustment | F41: Attach 5, Line 3, column G | G41: -4763841 | I41: DA | J41: 1 | L41: -4763841
C43: 4 | E43: NET REVENUE REQUIREMENT | F43: (line 1 minus line 2 plus line 3) | L43: 34407725

Sheet 2021 & 2022 TU Calculations
A1: Original True-Up Calculations | O1: Revised True-Up Calculations
C5: Year | G5: Annual True-Up Calculation | Q5: Year | U5: Annual True-Up Calculation
B6: 1 | C6: 2021 | P6: 1 | Q6: 2021
C7: A | D7: B | E7: C | F7: D | G7: E | H7: F | I7: G | Q7: A | R7: B | S7: C | T7: D | U7: E | V7: F | W7: G
G8: Net | U8: Net
E9: Adjusted | G9: Under/(Over) | H9: Interest | I9: Total True-Up | S9: Adjusted | U9: Under/(Over) | V9: Interest | W9: Total True-Up
C10: Project | E10: Net Revenue | G10: Collection | H10: Income | I10: Adjustment | Q10: Project | S10: Net Revenue | U10: Collection | V10: Income | W10: Adjustment
C11: Identification | D11: Project Name | E11: Requirement1 | F11: Revenue Received2 | G11: (C-D) | H11: (Expense) | I11: (E + F) | Q11: Identification | R11: Project Name | S11: Requirement1 | T11: Revenue Received2 | U11: (C-D) | V11: (Expense) | W11: (E + F)
B12: 2 | C12: Southwest Nevada Asset | D12: Southwest Nevada | E12: 40218327 | F12: 42255470 | G12: =E12-F12 -> -2037142.6 | H12: =G12*(F43*24) -> -152261.86 | I12: =+G12+H12 -> -2189404.4 | P12: 2 | Q12: Southwest Nevada Asset | R12: Southwest Nevada | S12: 40218327 | T12: =+'2021 & 2022 Revenue Projections'!L13-'2021 & 2022 Revenue Projections'!L17 -> 39498880 | U12: =S12-T12 -> 719447.44 | V12: =U12*(T43*24) -> 47360.197 | W12: =+U12+V12 -> 766807.64
B13: 2a | E13: 0 | F13: 0 | G13: =E13-F13 -> 0 | H13: 0 | I13: =+G13+H13 -> 0 | P13: 2a | S13: 0 | T13: 0 | U13: =S13-T13 -> 0 | V13: 0 | W13: =+U13+V13 -> 0
B14: 2b | E14: 0 | F14: 0 | G14: =E14-F14 -> 0 | H14: 0 | I14: =+G14+H14 -> 0 | P14: 2b | S14: 0 | T14: 0 | U14: =S14-T14 -> 0 | V14: 0 | W14: =+U14+V14 -> 0
B15: 2c | E15: 0 | F15: 0 | G15: =E15-F15 -> 0 | H15: 0 | I15: =+G15+H15 -> 0 | P15: 2c | S15: 0 | T15: 0 | U15: =S15-T15 -> 0 | V15: 0 | W15: =+U15+V15 -> 0
B16: 2d | E16: 0 | F16: 0 | G16: =E16-F16 -> 0 | H16: 0 | I16: =+G16+H16 -> 0 | P16: 2d | S16: 0 | T16: 0 | U16: =S16-T16 -> 0 | V16: 0 | W16: =+U16+V16 -> 0
E17: 0 | F17: 0 | G17: =E17-F17 -> 0 | H17: 0 | I17: =+G17+H17 -> 0 | S17: 0 | T17: 0 | U17: =S17-T17 -> 0 | V17: 0 | W17: =+U17+V17 -> 0
B19: 3 | C19: Total | E19: =SUM(E12:E17) -> 40218327 | F19: =SUM(F12:F17) -> 42255470 | G19: =SUM(G12:G17) -> -2037142.6 | H19: =SUM(H12:H17) -> -152261.86 | I19: =SUM(I12:I17) -> -2189404.4 | P19: 3 | Q19: Total | S19: =SUM(S12:S17) -> 40218327 | T19: =SUM(T12:T17) -> 39498880 | U19: =SUM(U12:U17) -> 719447.44 | V19: =SUM(V12:V17) -> 47360.197 | W19: =SUM(W12:W17) -> 766807.64
C22: Notes | Q22: Notes
C23: 1. From Attachment 4, Column M for the period being trued-up | Q23: 1. From Attachment 4, Column M for the period being trued-up
C24: 2. The "revenue received" is the total amount of revenue distributed to GWT in the True-Up Year. The amounts do not include any true-ups, prior period | Q24: 2. The "revenue received" is the total amount of revenue distributed to GWT in the True-Up Year. The amounts do not include any true-ups, prior period
C25: adjustments, or TRBAA amounts and reflects any Competitive Bid Concessions | Q25: adjustments, or TRBAA amounts and reflects any Competitive Bid Concessions
C26: 3. Then Monthly Interest Rate shall be equal to the interest rate set forth below on line 13 and be applied to the amount in Column E for a period of 24 months | Q26: 3. Then Monthly Interest Rate shall be equal to the interest rate set forth below on line 13 and be applied to the amount in Column E for a period of 24 months
C27: 4. The True-Up Adjustment is applied to each project pro rata based its contribution to the Revenue Requirement shown in Attachment 4 | Q27: 4. The True-Up Adjustment is applied to each project pro rata based its contribution to the Revenue Requirement shown in Attachment 4
C30: FERC Refund Interest Rate | Q30: FERC Refund Interest Rate
C32: (a) | D32: (b) | E32: (c) | F32: (d) | Q32: (a) | R32: (b) | S32: (c) | T32: (d)
B33: 4 | C33: Interest Rate: | D33: Quarter | E33: Year | F33: Quarterly Interest Rate under Section 35.19(a) | P33: 4 | Q33: Interest Rate: | R33: Quarter | S33: Year | T33: Quarterly Interest Rate under Section 35.19(a)
B34: 5 | D34: 1st Qtr. | E34: 2020 | F34: 0.0041 | P34: 5 | R34: 1st Qtr. | S34: 2021 | T34: 0.0027
B35: 6 | D35: 2nd Qtr | E35: 2020 | F35: 0.004 | P35: 6 | R35: 2nd Qtr | S35: 2021 | T35: 0.0027
B36: 7 | D36: 3rd Qtr | E36: 2020 | F36: 0.0029 | P36: 7 | R36: 3rd Qtr | S36: 2021 | T36: 0.0027
B37: 8 | D37: 4th Qtr | E37: 2020 | F37: 0.0027 | P37: 8 | R37: 4th Qtr | S37: 2021 | T37: 0.0027
B38: 9 | D38: 1st Qtr | E38: 2021 | F38: 0.0027 | P38: 9 | R38: 1st Qtr | S38: 2022 | T38: 0.0027
B39: 10 | D39: 2nd Qtr | E39: 2021 | F39: 0.0027 | P39: 10 | R39: 2nd Qtr | S39: 2022 | T39: 0.0027
B40: 11 | D40: 3rd Qtr | E40: 2021 | F40: 0.0027 | P40: 11 | R40: 3rd Qtr | S40: 2022 | T40: 0.003
B41: 12 | D41: Sum lines 5-11 | F41: =SUM(F34:F40) -> 0.0218 | P41: 12 | R41: Sum lines 5-11 | T41: =SUM(T34:T40) -> 0.0192
B43: 13 | C43: Avg. Monthly FERC Rate | D43: Line 12 divided by 7 | F43: =F41/7 -> 0.0031142857 | P43: 13 | Q43: Avg. Monthly FERC Rate | R43: Line 12 divided by 7 | T43: =T41/7 -> 0.0027428571
C48: Year | G48: Annual True-Up Calculation | Q48: Year | U48: Annual True-Up Calculation
B49: 1 | C49: 2022 | P49: 1 | Q49: 2022
C50: A | D50: B | E50: C | F50: D | G50: E | H50: F | I50: G | Q50: A | R50: B | S50: C | T50: D | U50: E | V50: F | W50: G
G51: Net | U51: Net
E52: Adjusted | G52: Under/(Over) | H52: Interest | I52: Total True-Up | S52: Adjusted | U52: Under/(Over) | V52: Interest | W52: Total True-Up
C53: Project | E53: Net Revenue | G53: Collection | H53: Income | I53: Adjustment | Q53: Project | S53: Net Revenue | U53: Collection | V53: Income | W53: Adjustment
C54: Identification | D54: Project Name | E54: Requirement1 | F54: Revenue Received2 | G54: (C-D) | H54: (Expense) | I54: (E + F) | Q54: Identification | R54: Project Name | S54: Requirement1 | T54: Revenue Received2 | U54: (C-D) | V54: (Expense) | W54: (E + F)
...
